BEGIN:VCALENDAR
VERSION:2.0
PRODID:-//Munich Startup - ECPv5.5.0//NONSGML v1.0//EN
CALSCALE:GREGORIAN
METHOD:PUBLISH
X-WR-CALNAME:Munich Startup
X-ORIGINAL-URL:https://cms.munich-startup.net
X-WR-CALDESC:Veranstaltungen für Munich Startup
BEGIN:VTIMEZONE
TZID:Europe/Berlin
BEGIN:DAYLIGHT
TZOFFSETFROM:+0100
TZOFFSETTO:+0200
TZNAME:CEST
DTSTART:20190331T010000
END:DAYLIGHT
BEGIN:STANDARD
TZOFFSETFROM:+0200
TZOFFSETTO:+0100
TZNAME:CET
DTSTART:20191027T010000
END:STANDARD
END:VTIMEZONE
BEGIN:VEVENT
DTSTART;TZID=Europe/Berlin:20191128T183000
DTEND;TZID=Europe/Berlin:20191128T223000
DTSTAMP:20260424T184052
CREATED:20190618T093710Z
LAST-MODIFIED:20191008T071421Z
UID:53549-1574965800-1574980200@cms.munich-startup.net
SUMMARY:It's a Co-Founder Match\, Vol. 3
DESCRIPTION:Join us for the third round of „It’s a Co-Founder Match“! A matching event organized by the LMU Entrepreneurship Center & CDTM!\nPitch your own idea or just listen to thrilling pitches\, get inspired and join someone elses idea!\nGet direct feedback to your business-case and find your future co-founders. Who knows? The perfect idea may be just around the corner! \nAgenda for the evening:\n– Welcoming\n– Short introduction of LMU Entrepreneurship Center and Partners\n– First Pitch Round\n– Successfull Founderstory\n– Second Pitch Round\n– Inputsession by Andy Goldstein (Serial Entrepreneur plus CEO & Founder of the LMU EC)\n– Drinks & Networking \nWhen? November 28\, 2019\, 18-30 – 22.30 Uhr\nWhere? @Wayra\, Kaufingerstraße 15\, 4.Stock \nHier findet Ihr mehr Informationen zu der Veranstaltung.
URL:https://cms.munich-startup.net/veranstaltung/its-a-co-founder-match-vol-3/
LOCATION:Wayra Deutschland GmbH\, Kaufingerstraße 15\, München\, 80331
ATTACH;FMTTYPE=image/jpeg:https://cms.munich-startup.net/wp-content/uploads/2019/06/https-_cdn.evbuc_.com_images_72730061_78375004351_1_original.20190624-144813.jpg
GEO:48.13768;11.57161
X-APPLE-STRUCTURED-LOCATION;VALUE=URI;X-ADDRESS=Wayra Deutschland GmbH Kaufingerstraße 15 München 80331;X-APPLE-RADIUS=500;X-TITLE=Kaufingerstraße 15:geo:11.57161,48.13768
END:VEVENT
END:VCALENDAR