BEGIN:VCALENDAR
VERSION:2.0
PRODID:-//Munich Startup - ECPv5.5.0//NONSGML v1.0//EN
CALSCALE:GREGORIAN
METHOD:PUBLISH
X-WR-CALNAME:Munich Startup
X-ORIGINAL-URL:https://cms.munich-startup.net
X-WR-CALDESC:Veranstaltungen für Munich Startup
BEGIN:VTIMEZONE
TZID:Europe/Berlin
BEGIN:DAYLIGHT
TZOFFSETFROM:+0100
TZOFFSETTO:+0200
TZNAME:CEST
DTSTART:20230326T010000
END:DAYLIGHT
BEGIN:STANDARD
TZOFFSETFROM:+0200
TZOFFSETTO:+0100
TZNAME:CET
DTSTART:20231029T010000
END:STANDARD
END:VTIMEZONE
BEGIN:VEVENT
DTSTART;TZID=Europe/Berlin:20231027T100000
DTEND;TZID=Europe/Berlin:20231027T160000
DTSTAMP:20260424T203053
CREATED:20231009T073522Z
LAST-MODIFIED:20231009T074722Z
UID:95048-1698400800-1698422400@cms.munich-startup.net
SUMMARY:ITCS - Das IT-Karrierefestival
DESCRIPTION:Der ITCS München ist eine kostenlose Tech-Konferenz\, IT-Jobmesse & Festival für Studierende und Berufstätige (3.000+ Tekkies/Messe) mit Interesse an IT/Tech Themen. \nAuf dem ITCS kannst Du mit 120+ Ausstellern Kontakte knüpfen\, vom Startup bis zum Weltkonzern! \nEbenso gibt es ein Rahmenprogramm mit vielen Talks & Workshops zu aktuellen IT-Themen\, Coding Challenges\, eSports und vieles mehr! \nNicht zu verpassen ist natürlich auch unsere Afterparty für alle Teilnehmenden mit DJane & kostenfreien Getränken. \nHier findet Ihr mehr Informationen zu der Veranstaltung.
URL:https://cms.munich-startup.net/veranstaltung/itcs-das-it-karrierefestival/
LOCATION:MOC\, Lilienthalallee 40\, München\, 80939
ATTACH;FMTTYPE=image/png:https://cms.munich-startup.net/wp-content/uploads/2023/10/190208_ITCS_LOGO_SCHWARZ-WEISS-RGBR.png
GEO:48.1970141;11.6111761
X-APPLE-STRUCTURED-LOCATION;VALUE=URI;X-ADDRESS=MOC Lilienthalallee 40 München 80939;X-APPLE-RADIUS=500;X-TITLE=Lilienthalallee 40:geo:11.6111761,48.1970141
END:VEVENT
END:VCALENDAR