BEGIN:VCALENDAR
VERSION:2.0
PRODID:-//Munich Startup - ECPv5.5.0//NONSGML v1.0//EN
CALSCALE:GREGORIAN
METHOD:PUBLISH
X-WR-CALNAME:Munich Startup
X-ORIGINAL-URL:https://cms.munich-startup.net
X-WR-CALDESC:Veranstaltungen für Munich Startup
BEGIN:VTIMEZONE
TZID:Europe/Berlin
BEGIN:DAYLIGHT
TZOFFSETFROM:+0100
TZOFFSETTO:+0200
TZNAME:CEST
DTSTART:20250330T010000
END:DAYLIGHT
BEGIN:STANDARD
TZOFFSETFROM:+0200
TZOFFSETTO:+0100
TZNAME:CET
DTSTART:20251026T010000
END:STANDARD
END:VTIMEZONE
BEGIN:VEVENT
DTSTART;TZID=Europe/Berlin:20250603T110000
DTEND;TZID=Europe/Berlin:20250603T220000
DTSTAMP:20260425T130531
CREATED:20250513T075136Z
LAST-MODIFIED:20250513T075215Z
UID:109696-1748948400-1748988000@cms.munich-startup.net
SUMMARY:Investorenkonferenz VentureCon 2025
DESCRIPTION:Mit der VentureCon in München wartet auf Investoren ein Tag voll wertvoller Kontakte\, neuer Inspirationen und Innovationen von 70 Startups. Intensives und exklusives Investors only-Networking tagsüber und Eintauchen in die Startup Demo Night mit mehr als 800 Besuchern am Abend. \nDas erwartet Euch: \n\nTop-Networking-Kontakte beim VC-Lunch\nRundfahrt im UMADUM – dem Münchner Riesenrad in kleinen „Investors only“-Gruppen und Austausch rund um aktuelle Themen\nKurzpitches ausgewählter Top-Startups\nPre-Visiting der Startup Demo Night mit 70 ausstellenden Startups\, bevor sich die Türen und Tore für +800 Besucher öffnen\n\nDarüber hinaus prämieren wir an diesem Abend die besten Startups aus Phase 2 des Münchener Businessplan Wettbewerb. \nHier findet Ihr mehr Informationen zu der Veranstaltung.
URL:https://cms.munich-startup.net/veranstaltung/investorenkonferenz-venturecon-2025/
LOCATION:Werksviertel Mitte München\, Atelierstraße 1\, München\, 81671\, Germany
ATTACH;FMTTYPE=image/png:https://cms.munich-startup.net/wp-content/uploads/2025/05/BayStartUP_Logotype_pos_RGB.png
END:VEVENT
END:VCALENDAR