BEGIN:VCALENDAR
VERSION:2.0
PRODID:-//Munich Startup - ECPv5.5.0//NONSGML v1.0//EN
CALSCALE:GREGORIAN
METHOD:PUBLISH
X-WR-CALNAME:Munich Startup
X-ORIGINAL-URL:https://cms.munich-startup.net
X-WR-CALDESC:Veranstaltungen für Munich Startup
BEGIN:VTIMEZONE
TZID:Europe/Berlin
BEGIN:DAYLIGHT
TZOFFSETFROM:+0100
TZOFFSETTO:+0200
TZNAME:CEST
DTSTART:20260329T010000
END:DAYLIGHT
BEGIN:STANDARD
TZOFFSETFROM:+0200
TZOFFSETTO:+0100
TZNAME:CET
DTSTART:20261025T010000
END:STANDARD
END:VTIMEZONE
BEGIN:VEVENT
DTSTART;TZID=Europe/Berlin:20260428T180000
DTEND;TZID=Europe/Berlin:20260428T193000
DTSTAMP:20260424T131304
CREATED:20260401T111353Z
LAST-MODIFIED:20260401T111353Z
UID:119060-1777399200-1777404600@cms.munich-startup.net
SUMMARY:Innovation\, Nachhaltigkeit & Wirtschaft - Kreislaufwirtschaft als Beschleuniger für die Umsetzung der SDGs?
DESCRIPTION:Die Landeshauptstadt München lädt gemeinsam mit der DGVN und dem DGVN-Landesverband Bayern zu einer Veranstaltung über die Potenziale der Kreislaufwirtschaft für die UN-Agenda 2030 und eine nachhaltige und resiliente Wirtschaft im Munich Urban Colab ein. \nDie Ziele für nachhaltige Entwicklung (SDGs) der Agenda 2030 der Vereinten Nationen stehen verstärkt unter Druck. Gleichzeitig sehen sich Wirtschaftsunternehmen mit hohen Energiepreisen\, fragilen Lieferketten und geopolitischen Unsicherheiten konfrontiert.\nDie Kreislaufwirtschaft bietet Ansätze\, diesen Herausforderungen zu begegnen. Ziel ist es\, Wohlstand und wirtschaftliches Wachstum vom Verbrauch natürlicher Ressourcen zu entkoppeln. Zu den zirkulären Geschäftsmodellen von Unternehmen zählen die R-Strategien\, etwa Reuse (Wiederverwenden)\, Repair (Reparieren) und Reduce (Reduzieren). Sie zielen darauf ab\, den Ressourcenverbrauch zu senken und Materialien möglichst lange im Wertschöpfungskreislauf zu halten.\nZirkuläres Wirtschaften kann Unternehmen nicht nur nachhaltiger\, sondern auch wirtschaftlich erfolgreicher und widerstandsfähiger machen. Bereits heute sehen viele Unternehmen in der Kreislaufwirtschaft Potenziale\, Material und Kosten einzusparen\, den Umwelt- und Klimaschutz zu stärken und die eigene Resilienz zu erhöhen.\nDie Kreislaufwirtschaft kann einen wichtigen Beitrag zur Umsetzung der SDGs leisten\, insbesondere zu nachhaltigem Konsum und nachhaltiger Produktion (SDG 12). Auch die Landeshauptstadt München misst ihr eine zentrale Bedeutung bei\, um das Ziel der Klimaneutralität bis 2035 zu erreichen. \nWAS ERWARTET SIE?\nWir diskutieren mit Praktikerinnen und Praktikern aus Wirtschaft\, Stadtverwaltung und Zivilgesellschaft\, welches Potenzial die Kreislaufwirtschaft für Unternehmen und für Nachhaltigkeit birgt. Welche Praxisbeispiele zeigen den Nutzen von Kreislaufwirtschaft bereits heute auf? Welche Rahmenbedingungen kann die Politik schaffen\, um die effiziente Umsetzung des Konzepts der Kreislaufwirtschaft in der Wirtschaft zu unterstützen? Welchen Einfluss kann Kreislaufwirtschaft auf die Umsetzung der SDGs haben – und wo liegen ihre Grenzen? \nZIELGRUPPE\nDie Veranstaltung richtet sich an die interessierte Öffentlichkeit\, an Unternehmerinnen und Unternehmen sowie Gründerinnen und Gründer. \nPROGRAMM \nBegrüßung: Carolin Maluck\, Stellvertretende DGVN-Bundesvorsitzende\, Vorsitzende des DGVN-Landesverbands Bayern \nLokale Einordnung:\nDr. Hanna Sammüller\, Leitung\, Kreisverwaltungsreferat\, Landeshauptstadt München\nChristine Kugler\, Leitung\, Referat für Klima- und Umweltschutz\, Landeshauptstadt München \nGlobale Einordnung: Daniel Mazuré\, Head Environment and Reporting\, UN Global Compact-Netzwerk Deutschland (zu bestätigen) \nPodiumsdiskussion:\nNiclas-Alexander Mauß\, Co-Founder\, UnternehmerTUM & CIRCULAR REPUBLIC\nVertretung von BMW (angefragt)\nDaniel Mazuré\, Head Environment and Reporting\, UN Global Compact-Netzwerk Deutschland\nChristine Kugler\, Leitung\, Referat für Klima- und Umweltschutz\, Landeshauptstadt München \nModeration: Simon Dörr\, Journalist \nNach dem inhaltlichen Teil besteht für die Teilnehmenden am Veranstaltungsort in München die Möglichkeit zum Austausch bei Getränken und Snacks. \nANMELDUNG\nBitte melden Sie sich für die Teilnahme an der Veranstaltung an. \nVERANSTALTER*INNEN\nDeutsche Gesellschaft für die Vereinten Nationen e.V. (DGVN)\nLandeshauptstadt München (LHM)\, Referat für Klima- und Umweltschutz und Kreisverwaltungsreferat \nHier findet Ihr mehr Informationen zu der Veranstaltung.
URL:https://cms.munich-startup.net/veranstaltung/innovation-nachhaltigkeit-wirtschaft-kreislaufwirtschaft-als-beschleuniger-fuer-die-umsetzung-der-sdgs/
LOCATION:Munich Urban Colab\, Freddie-Mercury-Straße 5\, München\, 80797
END:VEVENT
END:VCALENDAR