BEGIN:VCALENDAR
VERSION:2.0
PRODID:-//Munich Startup - ECPv5.5.0//NONSGML v1.0//EN
CALSCALE:GREGORIAN
METHOD:PUBLISH
X-WR-CALNAME:Munich Startup
X-ORIGINAL-URL:https://cms.munich-startup.net
X-WR-CALDESC:Veranstaltungen für Munich Startup
BEGIN:VTIMEZONE
TZID:Europe/Berlin
BEGIN:DAYLIGHT
TZOFFSETFROM:+0100
TZOFFSETTO:+0200
TZNAME:CEST
DTSTART:20250330T010000
END:DAYLIGHT
BEGIN:STANDARD
TZOFFSETFROM:+0200
TZOFFSETTO:+0100
TZNAME:CET
DTSTART:20251026T010000
END:STANDARD
END:VTIMEZONE
BEGIN:VEVENT
DTSTART;TZID=Europe/Berlin:20251129T100000
DTEND;TZID=Europe/Berlin:20251129T170000
DTSTAMP:20260425T053126
CREATED:20251028T110159Z
LAST-MODIFIED:20251028T110159Z
UID:114118-1764410400-1764435600@cms.munich-startup.net
SUMMARY:Impact Hub Winter Markt
DESCRIPTION:Geschenke\, Glühwein\, gute Gesellschaft: beim Winter Markt am 29. November im Impact Hub gibt’s wieder Kunst\, Handwerk und Kreatives aus München und Umgebung zu bestaunen. \nIn dem bunten Angebot aus Keramik\, Schmuck\, Illustrationen\, Leckereien\, gutem Kaffee\, Kleidung und Accessoires\, Taschen und Gehäkeltem\, upgecycelten Möbeln und vielem mehr findet ihr bestimmt einige Geschenke für euch oder eure Liebsten (u.a. sogar für eure Vierbeiner). Also schnappt euch eure FreundInnen und Familien und kommt auf eine Limo oder einen Glühwein im Impact Hub in der Gotzinger Str. 8 vorbei. \nHier findet Ihr mehr Informationen zu der Veranstaltung. 
URL:https://cms.munich-startup.net/veranstaltung/impact-hub-winter-markt/
LOCATION:Impact Hub München\, Gotzinger Straße 8\, München\, 81371\, Deutschland
ATTACH;FMTTYPE=image/jpeg:https://cms.munich-startup.net/wp-content/uploads/2025/10/Grafik-zum-Bewerben-Winter-Markt-2025-mit-weissen-Hintergrund.jpg
END:VEVENT
END:VCALENDAR