BEGIN:VCALENDAR
VERSION:2.0
PRODID:-//Munich Startup - ECPv5.5.0//NONSGML v1.0//EN
CALSCALE:GREGORIAN
METHOD:PUBLISH
X-WR-CALNAME:Munich Startup
X-ORIGINAL-URL:https://cms.munich-startup.net
X-WR-CALDESC:Veranstaltungen für Munich Startup
BEGIN:VTIMEZONE
TZID:Europe/Berlin
BEGIN:DAYLIGHT
TZOFFSETFROM:+0100
TZOFFSETTO:+0200
TZNAME:CEST
DTSTART:20240331T010000
END:DAYLIGHT
BEGIN:STANDARD
TZOFFSETFROM:+0200
TZOFFSETTO:+0100
TZNAME:CET
DTSTART:20241027T010000
END:STANDARD
END:VTIMEZONE
BEGIN:VEVENT
DTSTART;VALUE=DATE:20241009
DTEND;VALUE=DATE:20241012
DTSTAMP:20260426T002850
CREATED:20240701T074733Z
LAST-MODIFIED:20240701T074733Z
UID:102512-1728432000-1728691199@cms.munich-startup.net
SUMMARY:Idea Camp – Growth Alliance
DESCRIPTION:Werde Teil des Growth Alliance Idea Camps und entwickle in nur drei Tagen deine Startup-Idee im Bereich Landwirtschaft und Ernährung mit nachhaltigem Impact! \nDas Idea Camp ist ein kostenfreier Hackathon für gründungsinteressierte Studierende\, Absolvent:innen und Berufstätige aller Fachbereiche\, die einen aktiven Beitrag zu einer zukunftsfähigen Land- und Ernährungswirtschaft leisten möchten. \nAm 25. September 2024 werden bei der virtuellen Idea Fair verschiedene Challenges zu den Themen Smart Farming\, Nachhaltige Ernährung\, Natur & Klimaschutz und Bürokratieabbau vorgestellt\, an denen du im Rahmen des Idea Camps gemeinsam mit anderen Teilnehmer:innen arbeiten kannst. Wenn du an einer eigenen Problemstellung arbeiten möchtest\, kannst du bei der Idea Fair auch gerne deine eigene Challenge vorstellen und Teammitglieder finden. \nDer eigentliche Hackathon findet vom 09. bis 11. Oktober statt. Dort werdet Ihr von erfahrenen Mentor:innen begleitet . Das Programm vermittelt umfassende Fähigkeiten: Von der Entwicklung neuer Ansätze\, über die korrekte Identifizierung von Kundenbedürfnissen und Testen von Geschäftsmodellen bis hin zur abschließenden Präsentation ihrer Lösungen. Die besten Ideen werden am Ende mit einem Preisgeld ausgezeichnet! \nWarum teilnehmen?\nDu benötigst keine Vorkenntnisse im Bereich Gründung und Geschäftsmodellentwicklung\, um an unseren Challenges teilzunehmen. Wenn du dich für Innovationen im Bereich Landwirtschaft und Ernährung interessierst und Lust hast\, Gleichgesinnte kennenzulernen und mit der Idee spielst\, ein Startup zu gründen\, bist du beim Idea Camp genau richtig! \nFür wen ist das Idea Camp?\nGründungsinteressierte: Du hast noch keine Idee\, möchtest aber ein Startup gründen? Schließe dich einem Team an und arbeite an spannenden Challenges. \nIdeenentwickler:innen: Du hast schon eine Startup-Idee und möchtest sie weiterentwickeln? Bewirb dich mit deinem Team oder finde neue Teammitglieder. \nHier findet Ihr mehr Informationen zu der Veranstaltung.
URL:https://cms.munich-startup.net/veranstaltung/idea-camp-growth-alliance/
LOCATION:BayWa Co-Working Space\, Maximus-von-Imhof-Forum 2\, Freising\, 85354\, Deutschland
ATTACH;FMTTYPE=image/jpeg:https://cms.munich-startup.net/wp-content/uploads/2024/06/Idea-Camp-Growth-Alliance.jpg
END:VEVENT
END:VCALENDAR