BEGIN:VCALENDAR
VERSION:2.0
PRODID:-//Munich Startup - ECPv5.5.0//NONSGML v1.0//EN
CALSCALE:GREGORIAN
METHOD:PUBLISH
X-WR-CALNAME:Munich Startup
X-ORIGINAL-URL:https://cms.munich-startup.net
X-WR-CALDESC:Veranstaltungen für Munich Startup
BEGIN:VTIMEZONE
TZID:Europe/Berlin
BEGIN:DAYLIGHT
TZOFFSETFROM:+0100
TZOFFSETTO:+0200
TZNAME:CEST
DTSTART:20170326T010000
END:DAYLIGHT
BEGIN:STANDARD
TZOFFSETFROM:+0200
TZOFFSETTO:+0100
TZNAME:CET
DTSTART:20171029T010000
END:STANDARD
END:VTIMEZONE
BEGIN:VEVENT
DTSTART;TZID=Europe/Berlin:20171012T090000
DTEND;TZID=Europe/Berlin:20171013T170000
DTSTAMP:20260424T213316
CREATED:20170925T074154Z
LAST-MODIFIED:20170925T074550Z
UID:28341-1507798800-1507914000@cms.munich-startup.net
SUMMARY:herCAREER
DESCRIPTION:herCAREER – Karrieremesse für Absolventinnen\, Frauen in Fach- und Führungspositionen und Existenzgründerinnen\nGründerinnen mit Role Models auf Augenhöhe – das ermöglicht die herCAREER. \nDie herCAREER ist die etwas andere Karriere- & Existenzgründungsmesse für Frauen am 12. und 13. Oktober 2017 in München. Sie vernetzt ihre Teilnehmerinnen mit renommierten Vorbildern aus Wirtschaft\, Politik und Wissenschaft. Das vielfältige Angebot mit rund 200 MeetUps & Talks mit mehr als 200 Insidern\, Role Models und Experten\, über 60 Vorträgen\, Diskussionen und Keynotes. \nDie zahlreichen weiteren Angebote zur besseren Vereinbarkeit von Familie und Beruf\, zu Weiterbildungsmöglichkeiten\, Arbeitgebern und natürlich die Angebote rund um das Thema Existenzgründung machen die Messe einzigartig. Bei herCAREER können Gründerinnen von bereits etablierten erfolgreichen Gründerinnen lernen – und das in Gesprächen auf Augenhöhe. \nBei der angegliederten Abendveranstaltung treffen Gründerinnen übrigens auch auf Journalistinnen und Autorinnen von Handelsblatt\, Wired\, Gründerszene\, Cosmopolitan\, Emotion und manager magazin\, aber auch auf Business Angels wie Dagmar Mahnel\, Co-Founderin von windeln.de. \nHier findet Ihr mehr Informationen zu der Veranstaltung.
URL:https://cms.munich-startup.net/veranstaltung/hercareer-2017/
LOCATION:MTC world of fashion\, Taunusstraße 45\, München\, 80807
ATTACH;FMTTYPE=image/jpeg:https://cms.munich-startup.net/wp-content/uploads/2017/09/hC17_NFK-Media-Banner_630-250px_dk_dt..jpg
GEO:48.1893701;11.5814097
X-APPLE-STRUCTURED-LOCATION;VALUE=URI;X-ADDRESS=MTC world of fashion Taunusstraße 45 München 80807;X-APPLE-RADIUS=500;X-TITLE=Taunusstraße 45:geo:11.5814097,48.1893701
END:VEVENT
END:VCALENDAR