BEGIN:VCALENDAR
VERSION:2.0
PRODID:-//Munich Startup - ECPv5.5.0//NONSGML v1.0//EN
CALSCALE:GREGORIAN
METHOD:PUBLISH
X-WR-CALNAME:Munich Startup
X-ORIGINAL-URL:https://cms.munich-startup.net
X-WR-CALDESC:Veranstaltungen für Munich Startup
BEGIN:VTIMEZONE
TZID:Europe/Berlin
BEGIN:DAYLIGHT
TZOFFSETFROM:+0100
TZOFFSETTO:+0200
TZNAME:CEST
DTSTART:20260329T010000
END:DAYLIGHT
BEGIN:STANDARD
TZOFFSETFROM:+0200
TZOFFSETTO:+0100
TZNAME:CET
DTSTART:20261025T010000
END:STANDARD
END:VTIMEZONE
BEGIN:VEVENT
DTSTART;TZID=Europe/Berlin:20260224T180000
DTEND;TZID=Europe/Berlin:20260224T200000
DTSTAMP:20260424T155149
CREATED:20260108T104838Z
LAST-MODIFIED:20260108T105127Z
UID:115938-1771956000-1771963200@cms.munich-startup.net
SUMMARY:Healthcare Happy Hour goes Stellbrink
DESCRIPTION:Join us on February 24th for the Healthcare Happy Hour to delve into the latest advancements and trends in healthcare technology. Our expert guests cover a wide range of backgrounds including Krankenhaus innovations\, investments in the healthcare sector\, and healthcare startup pitching. Whether you’re a healthcare professional\, entrepreneur\, investor\, or simply interested in the intersection of technology and healthcare\, this event is for you. \nLearn about cutting-edge solutions in the healthcare industry\, network with like-minded individuals in the field of „Medizin und Gesundheitswissenschaften“\, and discover how venture capital and private equity are shaping the future of digital healthcare. Embrace the opportunity to explore new healthcare technologies\, discuss „Renditestarke Investitionen“ opportunities\, and be a part of the ongoing revolution in the Gesundheitswesen. Don’t miss out on this chance to be at the forefront of the digital health evolution! \nHier findet Ihr mehr Informationen zu der Veranstaltung.
URL:https://cms.munich-startup.net/veranstaltung/healthcare-happy-hour-goes-stellbrink/
LOCATION:Stellbrink & Partner München\, Widenmayerstraße 10\, München\, 80538\, Germany
END:VEVENT
END:VCALENDAR