BEGIN:VCALENDAR
VERSION:2.0
PRODID:-//Munich Startup - ECPv5.5.0//NONSGML v1.0//EN
CALSCALE:GREGORIAN
METHOD:PUBLISH
X-WR-CALNAME:Munich Startup
X-ORIGINAL-URL:https://cms.munich-startup.net
X-WR-CALDESC:Veranstaltungen für Munich Startup
BEGIN:VTIMEZONE
TZID:Europe/Berlin
BEGIN:DAYLIGHT
TZOFFSETFROM:+0100
TZOFFSETTO:+0200
TZNAME:CEST
DTSTART:20260329T010000
END:DAYLIGHT
BEGIN:STANDARD
TZOFFSETFROM:+0200
TZOFFSETTO:+0100
TZNAME:CET
DTSTART:20261025T010000
END:STANDARD
END:VTIMEZONE
BEGIN:VEVENT
DTSTART;TZID=Europe/Berlin:20260609T180000
DTEND;TZID=Europe/Berlin:20260609T190000
DTSTAMP:20260424T142554
CREATED:20260413T113858Z
LAST-MODIFIED:20260413T113858Z
UID:119283-1781028000-1781031600@cms.munich-startup.net
SUMMARY:Online: Happy Impact Hour
DESCRIPTION:Recht & Steuern für Social Startups \nDu hast eine Idee\, die Gutes bewirkt? Oder bist noch auf der Suche danach? \nBei der Happy Impact Hour bekommst Du praxisnahe Werkzeuge\, konkrete Tipps und neue Perspektiven\, um Dein Vorhaben mit gesellschaftlicher Wirkung voranzubringen. Das monatlich stattfindende Live-Webinar greift wechselnde Themen rund ums Gründen mit gesellschaftlichem Mehrwert auf. \nDieses Mal mit Eva Straube\, Rechtsanwältin und Steuerexpertin für Sozialunternehmen: \nGesellschaftliche Wirkung entfalten und gleichzeitig wirtschaftlich tragfähig arbeiten – wie lässt sich das rechtlich sinnvoll gestalten? \nIn der Juniausgabe erhältst Du einen verständlichen Überblick über passende Rechtsformen für Vorhaben mit gesellschaftlichem Mehrwert – auch im Zusammenspiel mit hybriden Modellen. Außerdem beleuchten wir zentrale steuerliche Aspekte\, damit Du typische Fallstricke frühzeitig erkennst und vermeidest\, insbesondere rund um das Thema Gemeinnützigkeit. \nIm Anschluss an den Impuls hast Du die Möglichkeit\, Deine Fragen direkt zu stellen und Dich mit den anderen Teilnehmenden zu vernetzen. \nMehr Informationen und Unterstützung findest Du unter: www.social-startup-hub.de\nDer Social-Startup-Hub Bayern ist ein Projekt der Social Entrepreneurship Akademie und wird aus Mitteln des Bayerischen Staatsministeriums für Familie\, Arbeit und Soziales gefördert. \nHier findet Ihr mehr Informationen zu der Veranstaltung.
URL:https://cms.munich-startup.net/veranstaltung/happy-impact-hour-0626/
LOCATION:Online
ATTACH;FMTTYPE=image/jpeg:https://cms.munich-startup.net/wp-content/uploads/2026/04/SSHB_Happy-Impact-Hour_Newsletter-3-1-1.jpg
END:VEVENT
END:VCALENDAR