BEGIN:VCALENDAR
VERSION:2.0
PRODID:-//Munich Startup - ECPv5.5.0//NONSGML v1.0//EN
CALSCALE:GREGORIAN
METHOD:PUBLISH
X-WR-CALNAME:Munich Startup
X-ORIGINAL-URL:https://cms.munich-startup.net
X-WR-CALDESC:Veranstaltungen für Munich Startup
BEGIN:VTIMEZONE
TZID:Europe/Berlin
BEGIN:DAYLIGHT
TZOFFSETFROM:+0100
TZOFFSETTO:+0200
TZNAME:CEST
DTSTART:20240331T010000
END:DAYLIGHT
BEGIN:STANDARD
TZOFFSETFROM:+0200
TZOFFSETTO:+0100
TZNAME:CET
DTSTART:20241027T010000
END:STANDARD
END:VTIMEZONE
BEGIN:VEVENT
DTSTART;TZID=Europe/Berlin:20241011T180000
DTEND;TZID=Europe/Berlin:20241011T213000
DTSTAMP:20260426T002839
CREATED:20240916T094455Z
LAST-MODIFIED:20240916T094455Z
UID:104680-1728669600-1728682200@cms.munich-startup.net
SUMMARY:HACK’N’TALK - Circular Hackfest Special
DESCRIPTION:Connect\, Learn\, and Grow at HACK’N’TALK\, the Premier Community Event for Entrepreneurs and Innovators! \nWe’ll begin with an introduction to the UnternehmerTUM ecosystem\, laying the foundation for an incredible lineup created in collaboration with CIRCULAR REPUBLIC and MakerSpace as the partner of this HACK’N’TALK event. \nThis HACK’N’TALK event is all about driving circular transformation in our economy. The circular economy isn’t just a concept; it’s a paradigm shift in how we manage resources and structure our economic systems. At this event\, we’ll dive deep into the profound impacts that circular economy practices have on every aspect of our lives. \nWe’re excited to give aspiring founders the chance to showcase the incredible projects they’ve developed during the CIRCULAR HACKFEST. These innovators will take the stage to pitch their cutting-edge ideas\, ready to receive feedback and engage in dynamic sparring sessions. Expect a day filled with innovation\, excitement\, and endless possibilities! \nWe are excited to welcome Leonhard Nima to the HACK’N’TALK Circular Hackfest Special as our keynote speaker. As the Founder of Studio Nima and Co-Founder of N3XTCODER\, Leonhard has spent over 13 years driving sustainable entrepreneurship\, social innovation\, and circular economy initiatives across more than 20 countries. \nIn his keynote\, „Circular Economy – a bumpy road ahead?! The Future of Circular Materials in Sustainability\,“ Leonhard will explore the complexities and opportunities surrounding the circular economy\, offering insights into the future of circular materials and their role in driving sustainability. \nLeonhard’s extensive experience spans advising startups and established organizations tackling challenges in plastic waste\, fair fashion\, and sustainable mobility. As a Venture Building Advisor to the Yunus Environment Hub and a leading figure in tech4good solutions\, he brings a wealth of knowledge and global perspective to the stage. Don’t miss this chance to learn from his journey and engage in a thought-provoking discussion on shaping the future of circular materials. \nNetworking is a vital component of any entrepreneurial gathering\, and at HACK’N’TALK\, we prioritize this aspect. Connect with fellow entrepreneurs\, investors\, and industry professionals\, forging valuable connections that can propel your start-up journey forward. \nAt HACK’N’TALK\, we value your input and your questions. We constantly strive to create an incredible experience and would love to hear from you. Please get in touch with Lisa Schebitz at lisa.schebitz@unternehmertum.de. \nHier findet Ihr mehr Informationen zu der Veranstaltung.
URL:https://cms.munich-startup.net/veranstaltung/hackntalk-circular-hackfest-special/
LOCATION:Munich Urban Colab\, Freddie-Mercury-Straße 5\, München\, 80797
ATTACH;FMTTYPE=image/jpeg:https://cms.munich-startup.net/wp-content/uploads/2024/09/October-2024-1.jpg
END:VEVENT
END:VCALENDAR