BEGIN:VCALENDAR
VERSION:2.0
PRODID:-//Munich Startup - ECPv5.5.0//NONSGML v1.0//EN
CALSCALE:GREGORIAN
METHOD:PUBLISH
X-WR-CALNAME:Munich Startup
X-ORIGINAL-URL:https://cms.munich-startup.net
X-WR-CALDESC:Veranstaltungen für Munich Startup
BEGIN:VTIMEZONE
TZID:Europe/Berlin
BEGIN:DAYLIGHT
TZOFFSETFROM:+0100
TZOFFSETTO:+0200
TZNAME:CEST
DTSTART:20260329T010000
END:DAYLIGHT
BEGIN:STANDARD
TZOFFSETFROM:+0200
TZOFFSETTO:+0100
TZNAME:CET
DTSTART:20261025T010000
END:STANDARD
END:VTIMEZONE
BEGIN:VEVENT
DTSTART;TZID=Europe/Berlin:20260519T180000
DTEND;TZID=Europe/Berlin:20260519T210000
DTSTAMP:20260424T154850
CREATED:20260413T112408Z
LAST-MODIFIED:20260413T112504Z
UID:119234-1779213600-1779224400@cms.munich-startup.net
SUMMARY:HACK'N'TALK by XPLORE - GovTech Special
DESCRIPTION:Connect\, Learn\, and Grow at HACK’N’TALK\, the Premier Community Event for Entrepreneurs and Innovators in Munich! \nJoin us for a high-impact special edition of HACK’N’TALK\, hosted at the innovative offices of Dassault Systèmes. This evening is dedicated to the world of GovTech\, bringing together the startup ecosystem and the public sector. \nThis edition shines a light on GovTech\, the movement transforming how governments operate and serve citizens. From streamlining administrative processes to enhancing digital sovereignty and public transparency\, GovTech is the frontier where policy meets cutting-edge technology to build the digital state of tomorrow. \nAgenda\nPanel Discussion: „The Pros and Cons of a B2G Business Model“ \nInstead of a single keynote\, we are excited to host a dynamic panel discussion featuring two leading voices in the GovTech space:\nFlora Geske\, CEO & Co-Founder summ ai\nFlorian Stupp\, Co-Founder Public Makers\nThe speakers will dive into the unique challenges and opportunities of the Business-to-Government (B2G) sector\, sharing first-hand insights on how to scale innovation within public structures. \nLive Pitches \nFollowing the panel\, six promising GovTech startups will take the stage! Each founder will have a high-energy 1-minute window to pitch their vision to our community of innovators\, investors\, and public sector experts. \nBuilding a GovTech startup?\nWhile our main slots are currently filled\, we maintain a waiting list for last-minute opportunities. Apply here. \nConnect & Network\nThe night concludes with our signature Matchmaking & Networking session: \nFacilitated Introductions: Our team will help connect you with attendees based on shared interests\, whether you are looking for co-founders\, investors\, or public sector partners.\nRefreshments: Enjoy drinks and snacks while forging valuable connections in the heart of Munich’s tech scene.\nWe can’t wait to welcome you to the GovTech edition of HACK’N’TALK! \nHier findet Ihr mehr Informationen zu der Veranstaltung.
URL:https://cms.munich-startup.net/veranstaltung/hackntalk-by-xplore-govtech-special/
LOCATION:Dassault Systèmes 3DEXPERIENCE Lab\, St.-Martin-Straße 82\, München\, 81541
ATTACH;FMTTYPE=image/jpeg:https://cms.munich-startup.net/wp-content/uploads/2026/04/HnT-May-2026.jpg
END:VEVENT
END:VCALENDAR