BEGIN:VCALENDAR
VERSION:2.0
PRODID:-//Munich Startup - ECPv5.5.0//NONSGML v1.0//EN
CALSCALE:GREGORIAN
METHOD:PUBLISH
X-WR-CALNAME:Munich Startup
X-ORIGINAL-URL:https://cms.munich-startup.net
X-WR-CALDESC:Veranstaltungen für Munich Startup
BEGIN:VTIMEZONE
TZID:Europe/Berlin
BEGIN:DAYLIGHT
TZOFFSETFROM:+0100
TZOFFSETTO:+0200
TZNAME:CEST
DTSTART:20260329T010000
END:DAYLIGHT
BEGIN:STANDARD
TZOFFSETFROM:+0200
TZOFFSETTO:+0100
TZNAME:CET
DTSTART:20261025T010000
END:STANDARD
END:VTIMEZONE
BEGIN:VEVENT
DTSTART;TZID=Europe/Berlin:20260129T100000
DTEND;TZID=Europe/Berlin:20260129T120000
DTSTAMP:20260424T172459
CREATED:20251121T102126Z
LAST-MODIFIED:20251121T102152Z
UID:114840-1769680800-1769688000@cms.munich-startup.net
SUMMARY:gate-Academy: How to Start Selling in B2B
DESCRIPTION:gate-Academy: How to Start Selling in B2B: A Simple Go2Market Playbook for Founders \nYou’ve built something great but how do you actually approach potential customers? How do you talk to them and how do you start selling?\nIn this hands-on workshop\, you’ll learn how to turn your idea into market traction. \nAs an early-stage founder you want to move from building on your own to cocreation with your customer and selling with confidence even without a sales background. \nIn our live session with Marc-David Wagner\, you’ll learn how to: \n\nDefine your first target customers\, sharpen your value proposition and work towards PMF\nCraft a simple\, repeatable Go2Market approach that fits your startup stage\nBuild early traction and prepare for scalable growth\nGet a MVP toolkit for your G2M\n\nJoin us to learn how to win customers and make these your biggest advocates. \nHier findet Ihr mehr Informationen zu der Veranstaltung.
URL:https://cms.munich-startup.net/veranstaltung/gate-academy-how-to-start-selling-in-b2b/
LOCATION:gate – Garchinger Technologie- und Gründerzentrum GmbH\, Lichtenbergstraße 8\, Garching bei München\, 85748
ATTACH;FMTTYPE=image/jpeg:https://cms.munich-startup.net/wp-content/uploads/2025/11/gate-Academy_How-to-Start-Selling_-EVENTBRITE.jpg
GEO:48.2686397;11.6651295
X-APPLE-STRUCTURED-LOCATION;VALUE=URI;X-ADDRESS=gate – Garchinger Technologie- und Gründerzentrum GmbH Lichtenbergstraße 8 Garching bei München 85748;X-APPLE-RADIUS=500;X-TITLE=Lichtenbergstraße 8:geo:11.6651295,48.2686397
END:VEVENT
END:VCALENDAR