BEGIN:VCALENDAR
VERSION:2.0
PRODID:-//Munich Startup - ECPv5.5.0//NONSGML v1.0//EN
CALSCALE:GREGORIAN
METHOD:PUBLISH
X-WR-CALNAME:Munich Startup
X-ORIGINAL-URL:https://cms.munich-startup.net
X-WR-CALDESC:Veranstaltungen für Munich Startup
BEGIN:VTIMEZONE
TZID:Europe/Berlin
BEGIN:DAYLIGHT
TZOFFSETFROM:+0100
TZOFFSETTO:+0200
TZNAME:CEST
DTSTART:20260329T010000
END:DAYLIGHT
BEGIN:STANDARD
TZOFFSETFROM:+0200
TZOFFSETTO:+0100
TZNAME:CET
DTSTART:20261025T010000
END:STANDARD
END:VTIMEZONE
BEGIN:VEVENT
DTSTART;TZID=Europe/Berlin:20260521T100000
DTEND;TZID=Europe/Berlin:20260521T120000
DTSTAMP:20260424T155238
CREATED:20260324T075556Z
LAST-MODIFIED:20260324T075556Z
UID:118326-1779357600-1779364800@cms.munich-startup.net
SUMMARY:gate-Academy: How to Kickstart B2B Sales and Close Your First Deals
DESCRIPTION:gate-Academy „How to Kickstart B2B Sales and Close Your First Deals“ with Claire Siegert \nYou’re building a great product but now it’s time to sell it.\nIf you’re a tech founder aiming for real traction\, B2B sales can’t be random. You need structure\, clarity\, and the right message to turn conversations into contracts. \nIn this hands-on workshop\, you’ll work directly on your own startup and build a practical roadmap to start or professionalize your B2B sales approach. The goal: You leave with a clear action plan and 1–3 concrete hooks you can immediately use in your next sales conversations. \nIn this workshop\, Claire Siegert will help you to: \n\nBuild your personal B2B sales roadmap from first outreach to signed deal\nDefine your ideal B2B customer and sharpen your value proposition\nCraft 1-3 compelling sales hooks tailored to your startup\nStructure your sales process to close your first deals faster\nThis session is interactive and practical. Bring your product\, your questions\, and your ambition and leave with the clarity and confidence to win your first B2B customers.\n\nClaire Siegert is an entrepreneur and founder of Businettes\, which she successfully pivoted into a platform business connecting startups with corporate partners. \nShe and her team built B2B partnerships from scratch\, without funding or an existing network\, turning early sales conversations into long-term collaborations with major brands. Today\, Claire shares practical insights on structuring B2B sales\, sharpening positioning\, and building scalable partnership models from zero. \nHier findet Ihr mehr Informationen zu der Veranstaltung. 
URL:https://cms.munich-startup.net/veranstaltung/gate-academy-how-to-kickstart-b2b-sales-and-close-your-first-deals/
LOCATION:gate – Garchinger Technologie- und Gründerzentrum GmbH\, Lichtenbergstraße 8\, Garching bei München\, 85748
ATTACH;FMTTYPE=image/jpeg:https://cms.munich-startup.net/wp-content/uploads/2026/03/Visual-21.5.-Eventbrite-1.jpg
GEO:48.2686397;11.6651295
X-APPLE-STRUCTURED-LOCATION;VALUE=URI;X-ADDRESS=gate – Garchinger Technologie- und Gründerzentrum GmbH Lichtenbergstraße 8 Garching bei München 85748;X-APPLE-RADIUS=500;X-TITLE=Lichtenbergstraße 8:geo:11.6651295,48.2686397
END:VEVENT
END:VCALENDAR