BEGIN:VCALENDAR
VERSION:2.0
PRODID:-//Munich Startup - ECPv5.5.0//NONSGML v1.0//EN
CALSCALE:GREGORIAN
METHOD:PUBLISH
X-WR-CALNAME:Munich Startup
X-ORIGINAL-URL:https://cms.munich-startup.net
X-WR-CALDESC:Veranstaltungen für Munich Startup
BEGIN:VTIMEZONE
TZID:Europe/Berlin
BEGIN:DAYLIGHT
TZOFFSETFROM:+0100
TZOFFSETTO:+0200
TZNAME:CEST
DTSTART:20240331T010000
END:DAYLIGHT
BEGIN:STANDARD
TZOFFSETFROM:+0200
TZOFFSETTO:+0100
TZNAME:CET
DTSTART:20241027T010000
END:STANDARD
END:VTIMEZONE
BEGIN:VEVENT
DTSTART;TZID=Europe/Berlin:20241211T140000
DTEND;TZID=Europe/Berlin:20241211T210000
DTSTAMP:20260425T213835
CREATED:20241204T123446Z
LAST-MODIFIED:20241204T123623Z
UID:106394-1733925600-1733950800@cms.munich-startup.net
SUMMARY:Future of Computing Conference 2024
DESCRIPTION:Future of Computing Conference 2024. Semiconductor\, Quantum and Photonics startups from around Europe come to Munich.\n \nJoin 250+ Startup Founders\, Deep Tech Investors\, and Computing Experts for this one-day conference about shaping the future of computing — from quantum computing and AI chips all the way to novel semiconductor materials and chip interconnects. \nYou will have the opportunity to see and meet computing startups from all over Europe — with a high concentration of silicon experts\, several inspiring keynotes\, and lots of time for networking. \nHier findet Ihr mehr Informationen zu der Veranstaltung.
URL:https://cms.munich-startup.net/veranstaltung/future-of-computing-conference-2024/
LOCATION:Munich Urban Colab\, Freddie-Mercury-Straße 5\, München\, 80797
ATTACH;FMTTYPE=image/jpeg:https://cms.munich-startup.net/wp-content/uploads/2024/12/Future-of-Computing-Conference-2024.jpg
END:VEVENT
END:VCALENDAR