BEGIN:VCALENDAR
VERSION:2.0
PRODID:-//Munich Startup - ECPv5.5.0//NONSGML v1.0//EN
CALSCALE:GREGORIAN
METHOD:PUBLISH
X-WR-CALNAME:Munich Startup
X-ORIGINAL-URL:https://cms.munich-startup.net
X-WR-CALDESC:Veranstaltungen für Munich Startup
BEGIN:VTIMEZONE
TZID:Europe/Berlin
BEGIN:DAYLIGHT
TZOFFSETFROM:+0100
TZOFFSETTO:+0200
TZNAME:CEST
DTSTART:20250330T010000
END:DAYLIGHT
BEGIN:STANDARD
TZOFFSETFROM:+0200
TZOFFSETTO:+0100
TZNAME:CET
DTSTART:20251026T010000
END:STANDARD
END:VTIMEZONE
BEGIN:VEVENT
DTSTART;TZID=Europe/Berlin:20250130T183000
DTEND;TZID=Europe/Berlin:20250130T210000
DTSTAMP:20260425T185252
CREATED:20250107T120155Z
LAST-MODIFIED:20250108T153010Z
UID:106876-1738261800-1738270800@cms.munich-startup.net
SUMMARY:Founders' regulars' table: Food & Agtech
DESCRIPTION:Throughout the year 2025\, the TUM Venture Lab FAB is organising a regulars‘ table for agri-food startups from Munich and the surrounding area and anyone who would like to get in touch with them. \nWhether you are a founder\, aspiring founder or just interested\, everyone is welcome to join our informal dialogue. Stop by\, have a cold drink and connect with Munich’s agri-food ecosystem! \nHier findet Ihr mehr Informationen zu der Veranstaltung.
URL:https://cms.munich-startup.net/veranstaltung/founders-regulars-table-food-agtech/
LOCATION:Wirtshaus Görreshof\, Görresstraße 38\, München\, 80798
ATTACH;FMTTYPE=image/jpeg:https://cms.munich-startup.net/wp-content/uploads/2025/01/Food-Entrepreneurship-made-in-Bavaria-Stammtisch_auadratisch.jpg
END:VEVENT
END:VCALENDAR