BEGIN:VCALENDAR
VERSION:2.0
PRODID:-//Munich Startup - ECPv5.5.0//NONSGML v1.0//EN
CALSCALE:GREGORIAN
METHOD:PUBLISH
X-WR-CALNAME:Munich Startup
X-ORIGINAL-URL:https://cms.munich-startup.net
X-WR-CALDESC:Veranstaltungen für Munich Startup
BEGIN:VTIMEZONE
TZID:Europe/Berlin
BEGIN:DAYLIGHT
TZOFFSETFROM:+0100
TZOFFSETTO:+0200
TZNAME:CEST
DTSTART:20260329T010000
END:DAYLIGHT
BEGIN:STANDARD
TZOFFSETFROM:+0200
TZOFFSETTO:+0100
TZNAME:CET
DTSTART:20261025T010000
END:STANDARD
END:VTIMEZONE
BEGIN:VEVENT
DTSTART;TZID=Europe/Berlin:20260507T090000
DTEND;TZID=Europe/Berlin:20260507T190000
DTSTAMP:20260424T143313
CREATED:20260225T124334Z
LAST-MODIFIED:20260225T124334Z
UID:117438-1778144400-1778180400@cms.munich-startup.net
SUMMARY:Female Future Festival
DESCRIPTION:Unter dem Motto „The Power of Connection“ findet das Female Future Festival am 7. Mai 2026 in München statt. Veranstaltungsort ist das Werksviertel Mitte. Rund 1.000 TeilnehmerInnen sowie mehr als 50 SpeakerInnen und EntscheiderInnen\, GründerInnen und MacherInnen aus dem gesamten deutschsprachigen Raum werden erwartet. \nIm Jahr 2026 rückt das Festival bewusster denn je echte Verbindungen in den Mittelpunkt – als Basis für berufliche Entwicklung\, unternehmerisches Wachstum und persönliche Stärke. In einer Zeit permanenter digitaler Erreichbarkeit setzt das Female Future Festival auf persönliche Begegnungen\, neue Austauschformate und Gespräche mit Tiefe. \nAuf der Mainstage erwarten die BesucherInnen rund 35 Keynotes und Panels. Ergänzt wird das Programm durch neue Connecting-Formate\, Masterclasses und bewusst eingeplante Austauschphasen. Erstmals verzichtet das Festival auf parallele Programmschienen – zugunsten von Fokus\, Tiefe und nachhaltigen Learnings. \nZu den SpeakerInnen zählen unter anderem Journalistin und Bestsellerautorin Nena Brockhaus\, Alicia Lindner\, Geschäftsführerin und Mitinhaberin der Börlind GmbH\, Senna Gammour und Bahar Kizil (Musikerinnen) sowie die beiden Münchner Gastronominnen Franziska Kohlpaintner und Katharina Kreutzkamm-Aumüller – neben weiteren Persönlichkeiten aus Wirtschaft\, Medien\, Wissenschaft und Gesellschaft. \nHier findet Ihr mehr Informationen zu der Veranstaltung.
URL:https://cms.munich-startup.net/veranstaltung/female-future-festival/
LOCATION:Werksviertel Mitte München\, Atelierstraße 1\, München\, 81671\, Germany
ATTACH;FMTTYPE=image/jpeg:https://cms.munich-startup.net/wp-content/uploads/2026/02/female-future-festival-25-c-marcella-ruiz-cruz-highres-0389.jpg
END:VEVENT
END:VCALENDAR