BEGIN:VCALENDAR
VERSION:2.0
PRODID:-//Munich Startup - ECPv5.5.0//NONSGML v1.0//EN
CALSCALE:GREGORIAN
METHOD:PUBLISH
X-WR-CALNAME:Munich Startup
X-ORIGINAL-URL:https://cms.munich-startup.net
X-WR-CALDESC:Veranstaltungen für Munich Startup
BEGIN:VTIMEZONE
TZID:Europe/Berlin
BEGIN:DAYLIGHT
TZOFFSETFROM:+0100
TZOFFSETTO:+0200
TZNAME:CEST
DTSTART:20260329T010000
END:DAYLIGHT
BEGIN:STANDARD
TZOFFSETFROM:+0200
TZOFFSETTO:+0100
TZNAME:CET
DTSTART:20261025T010000
END:STANDARD
END:VTIMEZONE
BEGIN:VEVENT
DTSTART;TZID=Europe/Berlin:20260417T090000
DTEND;TZID=Europe/Berlin:20260417T110000
DTSTAMP:20260424T131110
CREATED:20260413T093156Z
LAST-MODIFIED:20260413T093156Z
UID:119363-1776416400-1776423600@cms.munich-startup.net
SUMMARY:Female Founders Breakfast + Workshop: Munich
DESCRIPTION:Are you a founder\, freelancer\, aspiring entrepreneur\, team lead\, or international professional building your path in a new environment? \n​Join us for a morning of meaningful conversations\, inspiration\, and connection at the inspiring location 1000 Satellites Munich East. \n​This event is designed for women entrepreneurs and those curious about entrepreneurship to come together in a supportive environment (men are also welcome!). \n​It is a space to exchange ideas\, share experiences\, and build genuine connections that can support your personal and professional growth. \n​For this special edition\, you will also gain insights from a workshop by Gizem & Vanessa on Human Design for Business\, exploring how understanding your individual strengths and decision-making style can support your entrepreneurial journey. \n​Whether you are already building a business or just starting to explore your ideas\, this breakfast offers an opportunity to meet like-minded people\, learn from each other\, and expand your network in an authentic way. \n​​What to expect \n\n​A warm and supportive community of like-minded women ​\n​Conversations about entrepreneurship—the highs\, the lessons\, and the real talk\n​​A chance to share challenges\, brainstorm solutions\, and explore new opportunities or even a co-founder\n​​Inspiring impulses followed by exchanges of experiences and several practical business insights\n​​By midday\, you feel motivated\, empowered\, and connected\, ready to take on your business journey with fresh energy and new ideas. ​\n\nHier findet Ihr mehr Informationen zu der Veranstaltung.
URL:https://cms.munich-startup.net/veranstaltung/female-founders-breakfast-workshop-munich/
LOCATION:1000 Satellites SoHo\, Koppstraße 12\, München\, 81379\, Germany
ATTACH;FMTTYPE=image/jpeg:https://cms.munich-startup.net/wp-content/uploads/2026/04/2b5c3549-a10f-4734-ae87-a3dc00db7821.jpg
END:VEVENT
END:VCALENDAR