BEGIN:VCALENDAR
VERSION:2.0
PRODID:-//Munich Startup - ECPv5.5.0//NONSGML v1.0//EN
CALSCALE:GREGORIAN
METHOD:PUBLISH
X-WR-CALNAME:Munich Startup
X-ORIGINAL-URL:https://cms.munich-startup.net
X-WR-CALDESC:Veranstaltungen für Munich Startup
BEGIN:VTIMEZONE
TZID:Europe/Berlin
BEGIN:DAYLIGHT
TZOFFSETFROM:+0100
TZOFFSETTO:+0200
TZNAME:CEST
DTSTART:20260329T010000
END:DAYLIGHT
BEGIN:STANDARD
TZOFFSETFROM:+0200
TZOFFSETTO:+0100
TZNAME:CET
DTSTART:20261025T010000
END:STANDARD
END:VTIMEZONE
BEGIN:VEVENT
DTSTART;TZID=Europe/Berlin:20260610T123000
DTEND;TZID=Europe/Berlin:20260610T210000
DTSTAMP:20260424T143148
CREATED:20260326T101035Z
LAST-MODIFIED:20260326T101035Z
UID:118714-1781094600-1781125200@cms.munich-startup.net
SUMMARY:Ecosystem Startup Reveal
DESCRIPTION:The Ecosystem Startup Reveal Munich presented by UnternehmerTUM & BayStartUP\nBringing together Munich’s startup ecosystem powerhouses \nIntroducing the Ecosystem Startup Reveal – Munich’s collaborative startup showcase.\nWe unite top founders\, international investors\, corporates\, and partners for a high-impact day of pitches\, networking\, and inspiration. \nOur shared goal is to help startups gain operational momentum\, validation\, and financing. On this common ground we now want to build the base for a new event format for the Bavarian startup ecosystem\, where startups can get first feedback and investors are able to find the next big thing. \nHier findet Ihr mehr Informationen zu der Veranstaltung.
URL:https://cms.munich-startup.net/veranstaltung/ecosystem-startup-reveal/
LOCATION:TonHalle\, Atelierstraße 24\, München\, 81671
ATTACH;FMTTYPE=image/jpeg:https://cms.munich-startup.net/wp-content/uploads/2026/03/Ecosystem-Startup-Reveal.jpg
GEO:48.1237883;11.6088206
X-APPLE-STRUCTURED-LOCATION;VALUE=URI;X-ADDRESS=TonHalle Atelierstraße 24 München 81671;X-APPLE-RADIUS=500;X-TITLE=Atelierstraße 24:geo:11.6088206,48.1237883
END:VEVENT
END:VCALENDAR