BEGIN:VCALENDAR
VERSION:2.0
PRODID:-//Munich Startup - ECPv5.5.0//NONSGML v1.0//EN
CALSCALE:GREGORIAN
METHOD:PUBLISH
X-WR-CALNAME:Munich Startup
X-ORIGINAL-URL:https://cms.munich-startup.net
X-WR-CALDESC:Veranstaltungen für Munich Startup
BEGIN:VTIMEZONE
TZID:Europe/Berlin
BEGIN:DAYLIGHT
TZOFFSETFROM:+0100
TZOFFSETTO:+0200
TZNAME:CEST
DTSTART:20220327T010000
END:DAYLIGHT
BEGIN:STANDARD
TZOFFSETFROM:+0200
TZOFFSETTO:+0100
TZNAME:CET
DTSTART:20221030T010000
END:STANDARD
END:VTIMEZONE
BEGIN:VEVENT
DTSTART;TZID=Europe/Berlin:20220323T170000
DTEND;TZID=Europe/Berlin:20220323T183000
DTSTAMP:20260424T224403
CREATED:20220302T080814Z
LAST-MODIFIED:20220407T121656Z
UID:80393-1648054800-1648060200@cms.munich-startup.net
SUMMARY:Online: Deutscher Startup Monitor Bayern
DESCRIPTION:Der Deutsche Startup Monitor ist die „wichtigste Studie über junge Unternehmen in Deutschland“ (DIE ZEIT): Keine andere Publikation erfasst und vermisst das Startup-Ökosystem so umfassend. \nDie Gesamtergebnisse des jüngsten Deutschen Startup Monitors wurde bereits durch PwC gemeinsam mit dem Bundesverband Deutsche Startups e. V. vorgestellt. Aber wie steht es um unser regionales Ökosystem? Wie hat sich Bayern entwickelt und wie steht das Bundesland im bundesweiten Vergleich da? Wo funktioniert es sehr gut und wo bestehen noch Herausforderungen? \nDu kannst Dich auf spannende Ergebnisse und Diskussionen im Talkshow-Format freuen! Im Vordergrund steht der Austausch über das Innovations Ökosystem in Bayern und dessen zukünftige Entwicklung mit spannenden Vertreter:innen des Ökosystems wie beispielsweise Katrin Habenschaden\, 2. Bürgermeisterin Landeshauptstadt München\, Prof. Dr. Helmut Schoenenberger (Chief Executive Officer UnternehmerTUM und Vice President Entrepreneurship der TU München)\, Johannes Siebers (Co-Founder/CEO\, Holidu) und Michael Hammer (CFO\, BMW i Ventures). \nÜber Slido kannst Du während der Veranstaltung Fragen stellen und so interaktiv dabei sein. \n 
URL:https://cms.munich-startup.net/veranstaltung/deutscher-startup-monitor-bayern/
LOCATION:Online
ATTACH;FMTTYPE=image/png:https://cms.munich-startup.net/wp-content/uploads/2022/03/pwc-169253-dsm-bayern-webinar-00-network-v1_twitter-smarp.png
END:VEVENT
END:VCALENDAR