BEGIN:VCALENDAR
VERSION:2.0
PRODID:-//Munich Startup - ECPv5.5.0//NONSGML v1.0//EN
CALSCALE:GREGORIAN
METHOD:PUBLISH
X-WR-CALNAME:Munich Startup
X-ORIGINAL-URL:https://cms.munich-startup.net
X-WR-CALDESC:Veranstaltungen für Munich Startup
BEGIN:VTIMEZONE
TZID:Europe/Berlin
BEGIN:DAYLIGHT
TZOFFSETFROM:+0100
TZOFFSETTO:+0200
TZNAME:CEST
DTSTART:20250330T010000
END:DAYLIGHT
BEGIN:STANDARD
TZOFFSETFROM:+0200
TZOFFSETTO:+0100
TZNAME:CET
DTSTART:20251026T010000
END:STANDARD
END:VTIMEZONE
BEGIN:VEVENT
DTSTART;TZID=Europe/Berlin:20250409T170000
DTEND;TZID=Europe/Berlin:20250409T210000
DTSTAMP:20260425T155051
CREATED:20250303T072813Z
LAST-MODIFIED:20250303T072813Z
UID:108284-1744218000-1744232400@cms.munich-startup.net
SUMMARY:Demo Day - LMU Innovation Incubator
DESCRIPTION:Join us for the LMU Innovation Incubator Demo Day #6 – where bright scientific minds pitch their startup ideas over food & drinks \nOn Wednesday\, April 9th 2025\, starting at 5 pm\, we invite you to join us for our Startup teams’ final pitches and celebrate the end of our 6th Incubation program. \nBe part of our Demo Day and get to know the teams from the LMU Innovation Incubator cohort #6 – bright minds from diverse academic backgrounds with solid scientific foundations. Experience engaging pitches showcasing their innovative ideas\, and connect with industry professionals & fellow innovation enthusiasts\, all in a welcoming atmosphere accompanied by good food and music. \nHosts\n\nAnnie Weichselbaum\, IEC Incubation Lead\nPhilipp Dahl\, Institute for Innovation Management\n\nWelcome\n\nSarah Hanke\, Head of LMU Referat Transfer\n\nPitches\n\nDATFID – Data Analytics\nTeLLMe – UX & Market Research\nSuperShopping – Retail\nPoint of You – Digital Media & Entertainment\nRobin – Mental Health\nProP – Pharmaceuticals\, HealthTech\n\nHier findet Ihr mehr Informationen zu der Veranstaltung.
URL:https://cms.munich-startup.net/veranstaltung/demo-day-lmu-innovation-incubator/
LOCATION:WERK1\, Am Kartoffelgarten 14\, München\, 81671\, Germany
ATTACH;FMTTYPE=image/avif:https://cms.munich-startup.net/wp-content/uploads/2025/03/LMU-Innovation-Incubator-Demo-Day-6.avif
END:VEVENT
END:VCALENDAR