BEGIN:VCALENDAR
VERSION:2.0
PRODID:-//Munich Startup - ECPv5.5.0//NONSGML v1.0//EN
CALSCALE:GREGORIAN
METHOD:PUBLISH
X-WR-CALNAME:Munich Startup
X-ORIGINAL-URL:https://cms.munich-startup.net
X-WR-CALDESC:Veranstaltungen für Munich Startup
BEGIN:VTIMEZONE
TZID:Europe/Berlin
BEGIN:DAYLIGHT
TZOFFSETFROM:+0100
TZOFFSETTO:+0200
TZNAME:CEST
DTSTART:20250330T010000
END:DAYLIGHT
BEGIN:STANDARD
TZOFFSETFROM:+0200
TZOFFSETTO:+0100
TZNAME:CET
DTSTART:20251026T010000
END:STANDARD
END:VTIMEZONE
BEGIN:VEVENT
DTSTART;TZID=Europe/Berlin:20251112T093000
DTEND;TZID=Europe/Berlin:20251112T180000
DTSTAMP:20260425T053126
CREATED:20251016T063352Z
LAST-MODIFIED:20251016T063352Z
UID:113744-1762939800-1762970400@cms.munich-startup.net
SUMMARY:Defence Innovation Pitch Day
DESCRIPTION:Am 12. November 2025 bringt der Defence Innovation Pitch Day in München die spannendsten Deeptech- und Hardware-Innovationen für die Verteidigung auf eine gemeinsame Bühne. \nHier treffen Startups auf EntscheidungsträgerInnen aus der Bundeswehr\, Industrie und Forschung. Es gibt Hardware-Demonstrationen\, Live-Pitches und Deep Dives. Von Drohnenabwehr über Robotik und Sensorik bis hin zu Energielösungen und Quantentechnologien: Der Pitch Day zeigt\, welche Systeme das Gefechtsfeld von morgen prägen könnten. \nHier findet Ihr mehr Informationen zu der Veranstaltung.
URL:https://cms.munich-startup.net/veranstaltung/defence-innovation-pitch-day/
LOCATION:Holiday Inn Munich City Centre\, Hochstraße 3\, München\, 81669
ATTACH;FMTTYPE=image/jpeg:https://cms.munich-startup.net/wp-content/uploads/2025/10/DIPD_Logo_camouflage_250.jpg
GEO:48.130607;11.589468
X-APPLE-STRUCTURED-LOCATION;VALUE=URI;X-ADDRESS=Holiday Inn Munich City Centre Hochstraße 3 München 81669;X-APPLE-RADIUS=500;X-TITLE=Hochstraße 3:geo:11.589468,48.130607
END:VEVENT
END:VCALENDAR