BEGIN:VCALENDAR
VERSION:2.0
PRODID:-//Munich Startup - ECPv5.5.0//NONSGML v1.0//EN
CALSCALE:GREGORIAN
METHOD:PUBLISH
X-WR-CALNAME:Munich Startup
X-ORIGINAL-URL:https://cms.munich-startup.net
X-WR-CALDESC:Veranstaltungen für Munich Startup
BEGIN:VTIMEZONE
TZID:Europe/Berlin
BEGIN:DAYLIGHT
TZOFFSETFROM:+0100
TZOFFSETTO:+0200
TZNAME:CEST
DTSTART:20250330T010000
END:DAYLIGHT
BEGIN:STANDARD
TZOFFSETFROM:+0200
TZOFFSETTO:+0100
TZNAME:CET
DTSTART:20251026T010000
END:STANDARD
END:VTIMEZONE
BEGIN:VEVENT
DTSTART;TZID=Europe/Berlin:20250522T090000
DTEND;TZID=Europe/Berlin:20250523T160000
DTSTAMP:20260424T200732
CREATED:20241209T132710Z
LAST-MODIFIED:20241209T132710Z
UID:106487-1747904400-1748016000@cms.munich-startup.net
SUMMARY:Circular Republic Festival 2025
DESCRIPTION:CIRCULAR REPUBLIC FESTIVAL – The place to be for all circular economy visionaries. \nThe event for circular economy innovation celebrates its second edition by the motto „build your competitive advantage“ and brings together all visionaries to accelerate the circular transformation across all industries. \n\nTwo-day flagship event on circular economy\nFive innovation and impulse areas\nTop speakers and thought leaders in circular economy\n1000+ participants expected\n20+ panel discussions and key notes\n40 start-up pitches and 6 category awards\n3 hands-on workshops on circular business models\n10 Circular Hackfest challenges\nNetworking and best practices\n\nHier findet Ihr mehr Informationen zu der Veranstaltung.
URL:https://cms.munich-startup.net/veranstaltung/circular-republic-festival-2025/
LOCATION:Munich Urban Colab\, Freddie-Mercury-Straße 5\, München\, 80797
ATTACH;FMTTYPE=image/png:https://cms.munich-startup.net/wp-content/uploads/2024/12/Circular-Republic_UnternehmerTUM.png
END:VEVENT
END:VCALENDAR