BEGIN:VCALENDAR
VERSION:2.0
PRODID:-//Munich Startup - ECPv5.5.0//NONSGML v1.0//EN
CALSCALE:GREGORIAN
METHOD:PUBLISH
X-WR-CALNAME:Munich Startup
X-ORIGINAL-URL:https://cms.munich-startup.net
X-WR-CALDESC:Veranstaltungen für Munich Startup
BEGIN:VTIMEZONE
TZID:Europe/Berlin
BEGIN:DAYLIGHT
TZOFFSETFROM:+0100
TZOFFSETTO:+0200
TZNAME:CEST
DTSTART:20240331T010000
END:DAYLIGHT
BEGIN:STANDARD
TZOFFSETFROM:+0200
TZOFFSETTO:+0100
TZNAME:CET
DTSTART:20241027T010000
END:STANDARD
END:VTIMEZONE
BEGIN:VEVENT
DTSTART;TZID=Europe/Berlin:20240521T120000
DTEND;TZID=Europe/Berlin:20240521T200000
DTSTAMP:20260424T224212
CREATED:20240325T095802Z
LAST-MODIFIED:20240402T092228Z
UID:98980-1716292800-1716321600@cms.munich-startup.net
SUMMARY:Cashwalk München 2024
DESCRIPTION:Cashwalk\, das exklusive Matchmaking-Event von Start2\, bringt vielversprechende Startups und engagierte Investoren zusammen. \nEin Nachmittag\, 30 Startups\, 60 Investoren und unendliche Investitionschancen: Das ist Cashwalk von Start2. Geclustert nach Industrien präsentieren sorgfältig ausgewählte Gründer*Innen ihre Unternehmen in Live-Pitches. Im anschließenden Networking und Einzelgesprächen finden Investor*Innen und Startups für das nächste Investment ins Gespräch. Für Startups ist die Bewerbung kostenlos\, interessierte Investor*Innen können sich ab sofort registireren. \nDas einzigartige Networking- und Pitch-Event weist einen beachtlichen Track-Record auf: Über 70 ehemalige Startup-Teilnehmer der letzten zwei Jahre haben durchschnittlich eine Investition von 2\,3 Mio. € pro Finanzierungsrunde abgeschlossen. \nEine erstklassige Jury aus VC-Expert*Innen kürt das beste Startup aus jedem Industrien-Cluster. Die Gewinner erwartet noch mehr Unterstützung durch das Start2 Ökosystem und weitere Vorteile\, die von namenhaften Partnern bereitgestellt werden. \nCashwalk-Premiumpartner sind Coparion\, HV Capital\, Hich-Tech Gründerfonds und Bayern Kapital. \nHier findet Ihr mehr Informationen zu der Veranstaltung.
URL:https://cms.munich-startup.net/veranstaltung/cashwalk-muenchen-2024/
LOCATION:Start2 Group\, Balanstraße 73\, München\, 81541\, Deutschland
ATTACH;FMTTYPE=image/jpeg:https://cms.munich-startup.net/wp-content/uploads/2024/03/Cashwalk-Muenchen-2024.jpg
END:VEVENT
END:VCALENDAR