BEGIN:VCALENDAR
VERSION:2.0
PRODID:-//Munich Startup - ECPv5.5.0//NONSGML v1.0//EN
CALSCALE:GREGORIAN
METHOD:PUBLISH
X-WR-CALNAME:Munich Startup
X-ORIGINAL-URL:https://cms.munich-startup.net
X-WR-CALDESC:Veranstaltungen für Munich Startup
BEGIN:VTIMEZONE
TZID:Europe/Berlin
BEGIN:DAYLIGHT
TZOFFSETFROM:+0100
TZOFFSETTO:+0200
TZNAME:CEST
DTSTART:20180325T010000
END:DAYLIGHT
BEGIN:STANDARD
TZOFFSETFROM:+0200
TZOFFSETTO:+0100
TZNAME:CET
DTSTART:20181028T010000
END:STANDARD
END:VTIMEZONE
BEGIN:VEVENT
DTSTART;TZID=Europe/Berlin:20180124T153000
DTEND;TZID=Europe/Berlin:20180124T230000
DTSTAMP:20260424T223154
CREATED:20180115T085605Z
LAST-MODIFIED:20220630T132709Z
UID:32042-1516807800-1516834800@cms.munich-startup.net
SUMMARY:breakthrough 2018 award
DESCRIPTION:Am 24. Januar 2018 werden in einer großen Veranstaltung die Kategoriesieger sowie die Startup-Top 3 gekürt.\nSei dabei und erlebe einen unvergesslichen Tag mit interessanten Workshops\, spannenden Vorträgen\, innovativen Ideen sowie einem geselligen Get Together. \nAGENDA\n15.30 Uhr Einlass \n16.00 Uhr \nVortrag I: Herr Tobias Seikel (Partner\, Hanse Ventures): Wie arbeitet ein Company Builder?\nVortrag II: Herr Abel Aviles Roma (Head of Publisher Development\,Yieldkit): 3 proven ways to increase revenue with content and e-commerce behavioural data \n17.00 Uhr \nVortrag I: Herr Dr. Ulrich Vogel (Unternehmer\, Geschäftsführender Gesellschafter\, profilingvalues GmbH): Werteorientierte Unternehmensführung und Recruiting für Startups\nVortrag II: Frau Bianca Praetorius (Pitch Coach): Pitch\, don’t kill my vibe \n18.30 Uhr Begrüßung \n19.00 Uhr Keynote Christian Lindener (Managing Director\, Wayra Deutschland) \n19.30 Uhr Preisverleihung \n20.00 Uhr Live Band Romy Gaines (Top 30 unter 30\, Journal Frankfurt) \n21.00 Uhr Networking \nHier findet Ihr mehr Informationen zu der Veranstaltung.
URL:https://cms.munich-startup.net/veranstaltung/breakthrough-2018-award/
ATTACH;FMTTYPE=image/png:https://cms.munich-startup.net/wp-content/uploads/2018/01/https_2F2Fcdn.evbuc_.com2Fimages2F384863462F1884240346452F12Foriginal.png
END:VEVENT
END:VCALENDAR