BEGIN:VCALENDAR
VERSION:2.0
PRODID:-//Munich Startup - ECPv5.5.0//NONSGML v1.0//EN
CALSCALE:GREGORIAN
METHOD:PUBLISH
X-WR-CALNAME:Munich Startup
X-ORIGINAL-URL:https://cms.munich-startup.net
X-WR-CALDESC:Veranstaltungen für Munich Startup
BEGIN:VTIMEZONE
TZID:Europe/Berlin
BEGIN:DAYLIGHT
TZOFFSETFROM:+0100
TZOFFSETTO:+0200
TZNAME:CEST
DTSTART:20240331T010000
END:DAYLIGHT
BEGIN:STANDARD
TZOFFSETFROM:+0200
TZOFFSETTO:+0100
TZNAME:CET
DTSTART:20241027T010000
END:STANDARD
END:VTIMEZONE
BEGIN:VEVENT
DTSTART;VALUE=DATE:20240929
DTEND;VALUE=DATE:20241002
DTSTAMP:20260426T002908
CREATED:20240812T082744Z
LAST-MODIFIED:20240812T082925Z
UID:103905-1727568000-1727827199@cms.munich-startup.net
SUMMARY:Bits & Pretzels 2024
DESCRIPTION:Das Festival Bits & Pretzels findet jährlich während des Oktoberfestes in München statt. Als Leuchtturmveranstaltung für das europäische Unternehmertum und die Tech-Branche bringt Bits & Pretzels um die 5.000 Startup-Gründer:innen\, Investor:innen und Entscheidungsträger:innen aus aller Welt zusammen. Im Laufe der Jahre haben unzählige erfolgreiche Visionär:innen die Bühne genutzt\, um angehende Unternehmer:innen zu inspirieren und ihr Wissen zu teilen. Seit der ersten Ausgabe im Jahr 2014 hat die dreitägige Veranstaltung daher mit Redner:innen wie Arnold Schwarzenegger und Barack Obama schnell internationale Anerkennung erlangt. Das Ziel von Bits & Pretzels ist es\, Gründer:innen eine notwendige Netzwerk-Plattform zu bieten und ihnen Werkzeuge und Kenntnisse zur Förderung von Innovation und gesellschaftlichem Fortschritt an die Hand zu geben. \nDie Bits & Pretzels 2024 findet vom 29. September bis zum 1. Oktober statt. \nWeitere Informationen unter: https://www.bitsandpretzels.com
URL:https://cms.munich-startup.net/veranstaltung/bits-and-pretzels-2024/
LOCATION:München\, München\, 80333
ATTACH;FMTTYPE=image/png:https://cms.munich-startup.net/wp-content/uploads/2024/08/BitsPretzels_Logo-Date_yellow.png
GEO:48.1440989;11.5695525
END:VEVENT
END:VCALENDAR