BEGIN:VCALENDAR
VERSION:2.0
PRODID:-//Munich Startup - ECPv5.5.0//NONSGML v1.0//EN
CALSCALE:GREGORIAN
METHOD:PUBLISH
X-WR-CALNAME:Munich Startup
X-ORIGINAL-URL:https://cms.munich-startup.net
X-WR-CALDESC:Veranstaltungen für Munich Startup
BEGIN:VTIMEZONE
TZID:Europe/Berlin
BEGIN:DAYLIGHT
TZOFFSETFROM:+0100
TZOFFSETTO:+0200
TZNAME:CEST
DTSTART:20260329T010000
END:DAYLIGHT
BEGIN:STANDARD
TZOFFSETFROM:+0200
TZOFFSETTO:+0100
TZNAME:CET
DTSTART:20261025T010000
END:STANDARD
END:VTIMEZONE
BEGIN:VEVENT
DTSTART;VALUE=DATE:20260427
DTEND;VALUE=DATE:20260429
DTSTAMP:20260424T131041
CREATED:20260221T065614Z
LAST-MODIFIED:20260227T092903Z
UID:117555-1777248000-1777420799@cms.munich-startup.net
SUMMARY:BioVaria 2026
DESCRIPTION:BioVaria on 27/28 April 2026 in Munich will bring together Europe’s leading technology transfer experts\, innovators from academia and start-ups with investors and representatives of the global biotech and pharmaceutical industry. \nOrganized by Ascenion and other European technology transfer companies\, BioVaria brings together potential licensees and investors from the biotechnology and pharmaceutical industries with scientists\, founders and technology transfer experts from all over Europe. \nOn April 27 & 28\, 2026\, first-class research institutions\, universities and university hospitals will present around 70 selected\, licensable life science technologies. This year again\, projects in earlystages of development will also be presented\, including projects from Ascenion’s Life Science Digital Hub\, which is funded by GO-Bio initial. \nBioVaria Startup Pitch & Partner\nThe interactive BioVaria Startup Pitch & Partner Program offers spin-offs from all life-science areas (pharma\, diagnostics\, medtech and digital health) \n\nthe possibility to present their technology and business concept\ndirect exchange with potential VCs and investors during speed dating\nthe opportunity to network with representatives of the industry and the life science scene\n\nHier findet Ihr mehr Informationen zu der Veranstaltung.
URL:https://cms.munich-startup.net/veranstaltung/biovaria-2026/
LOCATION:Sofitel Bayerpost\, Bayerstr. 12\, München\, 80335
ATTACH;FMTTYPE=image/jpeg:https://cms.munich-startup.net/wp-content/uploads/2023/12/fileadmin_user_upload_Biovaria_Images_Logos_BioVaria-logo.jpg
END:VEVENT
END:VCALENDAR