BEGIN:VCALENDAR
VERSION:2.0
PRODID:-//Munich Startup - ECPv5.5.0//NONSGML v1.0//EN
CALSCALE:GREGORIAN
METHOD:PUBLISH
X-WR-CALNAME:Munich Startup
X-ORIGINAL-URL:https://cms.munich-startup.net
X-WR-CALDESC:Veranstaltungen für Munich Startup
BEGIN:VTIMEZONE
TZID:Europe/Berlin
BEGIN:DAYLIGHT
TZOFFSETFROM:+0100
TZOFFSETTO:+0200
TZNAME:CEST
DTSTART:20160327T010000
END:DAYLIGHT
BEGIN:STANDARD
TZOFFSETFROM:+0200
TZOFFSETTO:+0100
TZNAME:CET
DTSTART:20161030T010000
END:STANDARD
END:VTIMEZONE
BEGIN:VEVENT
DTSTART;TZID=Europe/Berlin:20160317T130000
DTEND;TZID=Europe/Berlin:20160317T190000
DTSTAMP:20260425T012401
CREATED:20160201T100644Z
LAST-MODIFIED:20210412T211309Z
UID:7523-1458219600-1458241200@cms.munich-startup.net
SUMMARY:BayStartUP Venture Conference „Kapital für die Wachstumsphase"
DESCRIPTION:Innovative junge Unternehmen mit ersten Markterfolgen auf der Suche nach Wachstumskapital.\nBayStartUP präsentiert schnell wachsende junge Technologie-Unternehmen mit ersten Markterfolgen auf der Suche nach Wachstumskapital. Die Venture Conference richtet sich an Venture Capital Vertreter\, öffentliche Kapitalgeber\, Business Angels und strategische Investoren aus ganz Deutschland. \n  \nDie Auswahlkriterien für Startups:\n\nStark wachstumsorientiertes Geschäftsmodell\nInnovatives Produkt bzw. eine innovative Lösung\nMindestens sechsstellige Umsätze\n\n  \nBewerbung für die Startup Pitches bis 12. Februar 2016\n\nBitte füllen Sie den BayStartUP 2 pager aus.\nUnd schicken ihn mit einem kurzen Anschreiben an: finanzierung@baystartup.de \n\n 
URL:https://cms.munich-startup.net/veranstaltung/baystartup-venture-conference-kapital-fuer-die-wachstumsphase/
LOCATION:BayBG Bayerische Beteiligungsgesellschaft\, Königinstr. 23\, München
ATTACH;FMTTYPE=image/jpeg:https://cms.munich-startup.net/wp-content/uploads/2015/01/Groß_BayStartUP_Logo_rgb.jpg
GEO:48.14772;11.58451
X-APPLE-STRUCTURED-LOCATION;VALUE=URI;X-ADDRESS=BayBG Bayerische Beteiligungsgesellschaft Königinstr. 23 München;X-APPLE-RADIUS=500;X-TITLE=Königinstr. 23:geo:11.58451,48.14772
END:VEVENT
END:VCALENDAR