BEGIN:VCALENDAR
VERSION:2.0
PRODID:-//Munich Startup - ECPv5.5.0//NONSGML v1.0//EN
CALSCALE:GREGORIAN
METHOD:PUBLISH
X-WR-CALNAME:Munich Startup
X-ORIGINAL-URL:https://cms.munich-startup.net
X-WR-CALDESC:Veranstaltungen für Munich Startup
BEGIN:VTIMEZONE
TZID:Europe/Berlin
BEGIN:DAYLIGHT
TZOFFSETFROM:+0100
TZOFFSETTO:+0200
TZNAME:CEST
DTSTART:20260329T010000
END:DAYLIGHT
BEGIN:STANDARD
TZOFFSETFROM:+0200
TZOFFSETTO:+0100
TZNAME:CET
DTSTART:20261025T010000
END:STANDARD
END:VTIMEZONE
BEGIN:VEVENT
DTSTART;TZID=Europe/Berlin:20260521T133000
DTEND;TZID=Europe/Berlin:20260521T143000
DTSTAMP:20260424T144006
CREATED:20260304T144343Z
LAST-MODIFIED:20260326T104315Z
UID:118727-1779370200-1779373800@cms.munich-startup.net
SUMMARY:Online: Bankenfinanzierung und Förderkredite für Startups - Was geht da?
DESCRIPTION:Banken vergeben Kredite typischerweise gegen Sicherheiten und in Abhängigkeit von der Rückzahlungswahrscheinlichkeit. Kredite einer Förderbank bieten meist vergünstigte Zinssätze und Haftungsfreistellungen. \nPeter Leitenmayer bzw. Melanie Kirsch von der LfA Förderbank Bayern und Anton Kasak von der Sparkasse Nürnberg geben dir im Tutorial Einblicke und Tipps zur Darlehnsfinanzierung für Startups: \n\nWas ist kreditfinanzierbar – was nicht? Wie finde ich die richtige Finanzierungsstruktur?\nNach welchen Kriterien wähle ich die Hausbank aus?\nWelche Rolle spielt der Firmenkundenbetreuer und welche Interessen hat er?\nWelches Reporting wird erwartet?\nWie wichtig sind Kreditsicherheiten?\nWarum gibt es Förderbanken?\nWas bedeutet das Hausbankenprinzip bei Förderkrediten?\nWelchen Nutzen hat Risikominimierung über Bürgschaften oder Haftungsfreistellungen\nWelche Förderdarlehen kommen in Frage?\n\nHier findet Ihr mehr Informationen zu der Veranstaltung.
URL:https://cms.munich-startup.net/veranstaltung/bankenfinanzierung-und-foerderkredite-fuer-startups-was-geht-da/
LOCATION:Online
ATTACH;FMTTYPE=image/png:https://cms.munich-startup.net/wp-content/uploads/2022/05/BayStartUP_Logotype_pos_RGB-1.png
END:VEVENT
END:VCALENDAR