BEGIN:VCALENDAR
VERSION:2.0
PRODID:-//Munich Startup - ECPv5.5.0//NONSGML v1.0//EN
CALSCALE:GREGORIAN
METHOD:PUBLISH
X-WR-CALNAME:Munich Startup
X-ORIGINAL-URL:https://cms.munich-startup.net
X-WR-CALDESC:Veranstaltungen für Munich Startup
BEGIN:VTIMEZONE
TZID:Europe/Berlin
BEGIN:DAYLIGHT
TZOFFSETFROM:+0100
TZOFFSETTO:+0200
TZNAME:CEST
DTSTART:20240331T010000
END:DAYLIGHT
BEGIN:STANDARD
TZOFFSETFROM:+0200
TZOFFSETTO:+0100
TZNAME:CET
DTSTART:20241027T010000
END:STANDARD
END:VTIMEZONE
BEGIN:VEVENT
DTSTART;TZID=Europe/Berlin:20241115T133000
DTEND;TZID=Europe/Berlin:20241115T143000
DTSTAMP:20260425T231002
CREATED:20240904T134343Z
LAST-MODIFIED:20240911T122920Z
UID:104639-1731677400-1731681000@cms.munich-startup.net
SUMMARY:Online: Bankenfinanzierung für Startups - Was geht da?
DESCRIPTION:Banken vergeben Kredite typischerweise gegen Sicherheiten und in Abhängigkeit von der Rückzahlungswahrscheinlichkeit. Kredite einer Förderbank bieten meist vergünstigte Zinssätze und Haftungsfreistellungen. \nPeter Leitenmayer von der LfA Förderbank Bayern gibt im Tutorial Einblicke und Tipps zur Darlehnsfinanzierung für Startups: \n\nWas ist kreditfinanzierbar – was nicht? Wie finde ich die richtige Finanzierungsstruktur?\nWarum gibt es Förderbanken?\nWas bedeutet das Hausbankprinzip bei Fördergeldern?\nNach welchen Kriterien wähle ich die Hausbank aus?\nWie wichtig sind Kreditsicherheiten?\nWelchen Nutzen hat Risikominimierung über Bürgschaften oder Haftungsfreistellungen?\nWelche Förderdarlehen kommen in Frage?\nWelche Rolle spielt der Firmenkundenbetreuer und welche Interessen hat er?\nWelches Reporting wird erwartet?\n\n  \nHier findet Ihr mehr Informationen zu der Veranstaltung.
URL:https://cms.munich-startup.net/veranstaltung/bankenfinanzierung-fuer-startups-1124/
LOCATION:Online
ATTACH;FMTTYPE=image/png:https://cms.munich-startup.net/wp-content/uploads/2022/05/BayStartUP_Logotype_pos_RGB-1.png
END:VEVENT
END:VCALENDAR