BEGIN:VCALENDAR
VERSION:2.0
PRODID:-//Munich Startup - ECPv5.5.0//NONSGML v1.0//EN
CALSCALE:GREGORIAN
METHOD:PUBLISH
X-WR-CALNAME:Munich Startup
X-ORIGINAL-URL:https://cms.munich-startup.net
X-WR-CALDESC:Veranstaltungen für Munich Startup
BEGIN:VTIMEZONE
TZID:Europe/Berlin
BEGIN:DAYLIGHT
TZOFFSETFROM:+0100
TZOFFSETTO:+0200
TZNAME:CEST
DTSTART:20250330T010000
END:DAYLIGHT
BEGIN:STANDARD
TZOFFSETFROM:+0200
TZOFFSETTO:+0100
TZNAME:CET
DTSTART:20251026T010000
END:STANDARD
END:VTIMEZONE
BEGIN:VEVENT
DTSTART;TZID=Europe/Berlin:20250318T130000
DTEND;TZID=Europe/Berlin:20250318T160000
DTSTAMP:20260425T171554
CREATED:20250218T151700Z
LAST-MODIFIED:20250218T152238Z
UID:107579-1742302800-1742313600@cms.munich-startup.net
SUMMARY:ASK ME ANYTHING – Q&A with business experts
DESCRIPTION:Bei unserem ASK ME ANYTHING laden wir viermal im Jahr Expert*innen zu den Themen – Sales\, Legal\, Funding\, Startup Beratung\, Leadership oder Hiring ins WERK1 ein. Bei den 1:1 Sessions könnt ihr euch direkt bei den Expert*innen einbuchen und euch 30 Minuten zum jeweiligen Thema beraten lassen. \nThema Startup Beratung: Nikola Nikolic\, Startup-Betreuer\, Startup-Center der Sparkasse\nThema People & Culture: Janet Brönstrup\, Managing Partner\, DONE! Berlin\nThema Legal: Alexander Stolberg\, Rechtsanwalt\, Fachanwalt für Handels-und Gesellschaftsrecht\nThema Sales: Hendrik Stöwe\, Geschäftsführer\, Excale Consulting GmbH \nHier findet Ihr mehr Informationen zu der Veranstaltung.
URL:https://cms.munich-startup.net/veranstaltung/ask-me-anything-qa-with-business-experts-0325/
LOCATION:WERK1\, Am Kartoffelgarten 14\, München\, 81671\, Germany
ATTACH;FMTTYPE=image/jpeg:https://cms.munich-startup.net/wp-content/uploads/2025/01/AMA.jpg
END:VEVENT
END:VCALENDAR