BEGIN:VCALENDAR
VERSION:2.0
PRODID:-//Munich Startup - ECPv5.5.0//NONSGML v1.0//EN
CALSCALE:GREGORIAN
METHOD:PUBLISH
X-WR-CALNAME:Munich Startup
X-ORIGINAL-URL:https://cms.munich-startup.net
X-WR-CALDESC:Veranstaltungen für Munich Startup
BEGIN:VTIMEZONE
TZID:Europe/Berlin
BEGIN:DAYLIGHT
TZOFFSETFROM:+0100
TZOFFSETTO:+0200
TZNAME:CEST
DTSTART:20240331T010000
END:DAYLIGHT
BEGIN:STANDARD
TZOFFSETFROM:+0200
TZOFFSETTO:+0100
TZNAME:CET
DTSTART:20241027T010000
END:STANDARD
END:VTIMEZONE
BEGIN:VEVENT
DTSTART;TZID=Europe/Berlin:20241114T160000
DTEND;TZID=Europe/Berlin:20241114T200000
DTSTAMP:20260425T230053
CREATED:20241024T122927Z
LAST-MODIFIED:20241024T122927Z
UID:105461-1731600000-1731614400@cms.munich-startup.net
SUMMARY:AI+MUNICH Pitch Night Batch #9
DESCRIPTION:Get to know the latest AI+MUNICH startups that have received funding from AI+MUNICH! \nWith this event we would like to offer you the opportunity to get to know our new startups better. The startups were admitted into our prototype funding program this autumn and will now pitch what they have achieved since then and what their next goals are. \nNetwork with the startups and ecosystem players such as corporates\, VC´s\, talents and students to exchange ideas\, share thoughts and talk about the latest AI developments. That means spending an exciting evening with Munich’s AI innovation ecosystem while enjoying snacks and drinks. \nAI+MUNICH is an initiative of Munich Innovation Ecosystem GmbH\, SCE and TUM Venture Labs. \nHier findet Ihr mehr Informationen zu der Veranstaltung.
URL:https://cms.munich-startup.net/veranstaltung/aimunich-pitch-night-batch-9/
LOCATION:Strascheg Center for Entrepreneurship (SCE)\, Heßstraße 89\, München\, 80797
ATTACH;FMTTYPE=image/jpeg:https://cms.munich-startup.net/wp-content/uploads/2024/10/Eventbrite-Header-gross.jpg
GEO:48.1539667;11.5576473
X-APPLE-STRUCTURED-LOCATION;VALUE=URI;X-ADDRESS=Strascheg Center for Entrepreneurship (SCE) Heßstraße 89 München 80797;X-APPLE-RADIUS=500;X-TITLE=Heßstraße 89:geo:11.5576473,48.1539667
END:VEVENT
END:VCALENDAR