BEGIN:VCALENDAR
VERSION:2.0
PRODID:-//Munich Startup - ECPv5.5.0//NONSGML v1.0//EN
CALSCALE:GREGORIAN
METHOD:PUBLISH
X-WR-CALNAME:Munich Startup
X-ORIGINAL-URL:https://cms.munich-startup.net
X-WR-CALDESC:Veranstaltungen für Munich Startup
BEGIN:VTIMEZONE
TZID:Europe/Berlin
BEGIN:DAYLIGHT
TZOFFSETFROM:+0100
TZOFFSETTO:+0200
TZNAME:CEST
DTSTART:20250330T010000
END:DAYLIGHT
BEGIN:STANDARD
TZOFFSETFROM:+0200
TZOFFSETTO:+0100
TZNAME:CET
DTSTART:20251026T010000
END:STANDARD
END:VTIMEZONE
BEGIN:VEVENT
DTSTART;TZID=Europe/Berlin:20251205T173000
DTEND;TZID=Europe/Berlin:20251205T220000
DTSTAMP:20260425T041227
CREATED:20251029T153937Z
LAST-MODIFIED:20251029T153937Z
UID:114211-1764955800-1764972000@cms.munich-startup.net
SUMMARY:AI Nation Demo Night
DESCRIPTION:Join us for the very first AI NATION Demo Night! \nYou will meet the teams who are currently in the program and see first hand what our latest funded startups Batch #12 have achieved as they demostrate where they are in their progress and future plans. \nWe welcome everyone with a passion for AI – whether you’re a founder\, investor\, corporate\, student or AI enthusiast. Expect an inspiring evening full of networking\, knowledge exchange\, and innovation\, especially those who are interested in applying for our next funding batch. It’s a unique opportunity to connect with our founders\, gain insights into the program\, and ask any questions about the application process. \nAnd lastly\, there’s a festive twist! It’s in December after all\, so we’re making it extra fun. Come in your ugliest\, brightest\, or most festive jumper and take part in our Ugly Jumper Competition for a chance to win a prize. \nAgenda:\n5.30 pm: Doors open & Demo Showing\n6.30 pm: Opening & Agenda Breakdown\n6.35 pm: Interview (with a very special guest!)\n7.00 pm: Funded startups Batch #12 Pitch\n7.30 pm: Networking over food & drinks | Pitching Booth | AI NATION Q&A | THE POOL Q&A\n8.30 pm: Ugly Christmas Jumper Competition\n10.00 pm: End \nIf you’re considering joining AI NATION\, this is your chance to experience the ecosystem up close! \nFor questions\, feel free to reach out: contact@ai-nation.de. \nHier findet Ihr mehr Informationen zu der Veranstaltung. 
URL:https://cms.munich-startup.net/veranstaltung/ai-nation-demo-night/
LOCATION:Strascheg Center for Entrepreneurship (SCE)\, Heßstraße 89\, München\, 80797
ATTACH;FMTTYPE=image/jpeg:https://cms.munich-startup.net/wp-content/uploads/2025/10/20251205_Demo-Night-eventpage.jpg
GEO:48.1539667;11.5576473
X-APPLE-STRUCTURED-LOCATION;VALUE=URI;X-ADDRESS=Strascheg Center for Entrepreneurship (SCE) Heßstraße 89 München 80797;X-APPLE-RADIUS=500;X-TITLE=Heßstraße 89:geo:11.5576473,48.1539667
END:VEVENT
END:VCALENDAR