BEGIN:VCALENDAR
VERSION:2.0
PRODID:-//Munich Startup - ECPv5.5.0//NONSGML v1.0//EN
CALSCALE:GREGORIAN
METHOD:PUBLISH
X-WR-CALNAME:Munich Startup
X-ORIGINAL-URL:https://cms.munich-startup.net
X-WR-CALDESC:Veranstaltungen für Munich Startup
BEGIN:VTIMEZONE
TZID:Europe/Berlin
BEGIN:DAYLIGHT
TZOFFSETFROM:+0100
TZOFFSETTO:+0200
TZNAME:CEST
DTSTART:20240331T010000
END:DAYLIGHT
BEGIN:STANDARD
TZOFFSETFROM:+0200
TZOFFSETTO:+0100
TZNAME:CET
DTSTART:20241027T010000
END:STANDARD
END:VTIMEZONE
BEGIN:VEVENT
DTSTART;TZID=Europe/Berlin:20241024T181500
DTEND;TZID=Europe/Berlin:20241024T210000
DTSTAMP:20260426T003038
CREATED:20241002T062430Z
LAST-MODIFIED:20241002T062430Z
UID:105081-1729793700-1729803600@cms.munich-startup.net
SUMMARY:AgriFood Startup Stammtisch
DESCRIPTION:Einmal im Monat treffen wir uns mit AgriFood Startups aus München und Umgebung und allen\, die mit ihnen in Kontakt treten wollen. \nJeden Monat eröffnet ein anderes Startup bzw. ein Akteur aus der Szene den Stammtisch um euch diverse Insights mit auf euren Weg zu geben. Ob Gründer*innen\, solche die es werden wollen oder Interessierte – alle sind herzlich willkommen zu unserem informellen Austausch. \nDer nächste Stammtisch findet am 24.10.24 in der Gaststätte Fraunhofer im Glockenbachviertel statt. \nHier findet Ihr mehr Informationen zu der Veranstaltung.
URL:https://cms.munich-startup.net/veranstaltung/agrifood-startup-stammtisch/
LOCATION:Gaststätte Fraunhofer\, Fraunhoferstraße 9\, München\, 80469
ATTACH;FMTTYPE=image/jpeg:https://cms.munich-startup.net/wp-content/uploads/2024/10/Food-Entrepreneurship-made-in-Bavaria-Stammtisch_Eventbrite_Schriftzug-1.jpg
END:VEVENT
END:VCALENDAR