BEGIN:VCALENDAR
VERSION:2.0
PRODID:-//Munich Startup - ECPv5.5.0//NONSGML v1.0//EN
CALSCALE:GREGORIAN
METHOD:PUBLISH
X-WR-CALNAME:Munich Startup
X-ORIGINAL-URL:https://cms.munich-startup.net
X-WR-CALDESC:Veranstaltungen für Munich Startup
BEGIN:VTIMEZONE
TZID:Europe/Berlin
BEGIN:DAYLIGHT
TZOFFSETFROM:+0100
TZOFFSETTO:+0200
TZNAME:CEST
DTSTART:20250330T010000
END:DAYLIGHT
BEGIN:STANDARD
TZOFFSETFROM:+0200
TZOFFSETTO:+0100
TZNAME:CET
DTSTART:20251026T010000
END:STANDARD
END:VTIMEZONE
BEGIN:VEVENT
DTSTART;VALUE=DATE:20251124
DTEND;VALUE=DATE:20251126
DTSTAMP:20260425T053125
CREATED:20250602T080253Z
LAST-MODIFIED:20250602T080549Z
UID:109954-1763942400-1764115199@cms.munich-startup.net
SUMMARY:48forward Festival
DESCRIPTION:Das 48forward Festival ist der Ort\, an dem Zukunft gedacht\, formuliert und gestaltet wird. Hier treffen sich führende Köpfe aus Wirtschaft\, Wissenschaft\, Politik und Kultur\, um jenseits von Floskeln über das zu sprechen\, was wirklich zählt: unsere gemeinsame Zukunft. In kuratierten Talks\, tiefgründigen Diskussionen und überraschenden Begegnungen entstehen neue Impulse für Führung\, Innovation und gesellschaftliche Verantwortung. \n2025 richtet das Festival den Fokus auf die großen Spannungsfelder unserer Zeit: Wie sichern wir demokratische Strukturen in einer zunehmend polarisierten Welt? Welche Verantwortung tragen Unternehmen im Zeitalter von Künstlicher Intelligenz und geopolitischer Umbrüche? Und wie gelingt echte Transformation – in Führung\, Bildung und Technologie? Die Themen reichen von digitaler Souveränität über radikale Innovationskultur bis hin zu neuen Modellen für Zusammenhalt und Sinn. Immer mit dem Blick nach vorn. Immer mit Menschen\, die etwas zu sagen haben. \n48forward ist kein Event. Es ist ein Statement: Für Dialog statt Dogma. Für Haltung statt Hype. Für ein Morgen\, das wir gemeinsam besser machen wollen. \n  \nAuf der Bühne freuen wir uns unter anderem auf: \n\nChristian Wulff\, Ehemaliger Bundespräsident der Bundesrepublik Deutschland\nToomas Hendrik Ilves\, Ehemaliger Staatspräsident der Republik Estland\nJoe Kaeser\, Vorsitzender der Aufsichtsräte der Siemens Energy AG und Daimler Truck Holding AG\nDr. Gregor Gysi\, Mitglied des Deutschen Bundestages\, Rechtsanwalt\, Autor\, Publizist & Moderator\nDr. Jan Goetz\, CEO und Co-Founder bei IQM Quantum Computers\nMikko Hyppönen\, Chief Research Officer bei WithSecure\nAriadne von Schirach\, Philosophin\, Autorin und Dozentin\n\nHier findet Ihr mehr Informationen zu der Veranstaltung.
URL:https://cms.munich-startup.net/veranstaltung/48forward-festival-2025/
LOCATION:Alte Kongresshalle\, Am Bavariapark 14\, München\, 80339\, Deutschland
ATTACH;FMTTYPE=image/jpeg:https://cms.munich-startup.net/wp-content/uploads/2025/05/48fwrd-festival-2024.jpg
END:VEVENT
END:VCALENDAR