BEGIN:VCALENDAR
VERSION:2.0
PRODID:-//Munich Startup - ECPv5.5.0//NONSGML v1.0//EN
CALSCALE:GREGORIAN
METHOD:PUBLISH
X-WR-CALNAME:Munich Startup
X-ORIGINAL-URL:https://cms.munich-startup.net
X-WR-CALDESC:Veranstaltungen für Munich Startup
BEGIN:VTIMEZONE
TZID:Europe/Berlin
BEGIN:DAYLIGHT
TZOFFSETFROM:+0100
TZOFFSETTO:+0200
TZNAME:CEST
DTSTART:20240331T010000
END:DAYLIGHT
BEGIN:STANDARD
TZOFFSETFROM:+0200
TZOFFSETTO:+0100
TZNAME:CET
DTSTART:20241027T010000
END:STANDARD
END:VTIMEZONE
BEGIN:VEVENT
DTSTART;TZID=Europe/Berlin:20240919T140000
DTEND;TZID=Europe/Berlin:20240919T180000
DTSTAMP:20260426T020826
CREATED:20240726T091436Z
LAST-MODIFIED:20240726T091610Z
UID:103453-1726754400-1726768800@cms.munich-startup.net
SUMMARY:12. Bayerischer CSR-Tag
DESCRIPTION:Mehr Nachhaltigkeit\, weniger Klimawandel – Das ist und bleibt die zentrale Herausforderung unserer Zeit. Für Unternehmen bedeutet das: Bewährtes in Frage stellen\, überdenken\, anpassen\, neu erfinden – und dabei die steigenden (gesetzlichen) Anforderungen meistern. \nUnsere Expertinnen und Experten des Wandels\, Gründerinnen und Gründer zeigen\, wie es geht: Nachhaltig und wirtschaftlich erfolgreich sein. Sie entwickeln innovative Ideen und Geschäftsmodelle von morgen\, die einen wertvollen Beitrag zur Bewältigung globaler Herausforderungen leisten und gleichzeitig Wettbewerbsvorteile bieten. \nDiesen Zukunftsmut und Unternehmergeist wollen wir auf dem diesjährige CSR-Tag in die Breite tragen\, um Kräfte zu bündeln und gemeinsam Zukunft zu schaffen. Denn eines ist klar: Nachhaltigkeit ist gekommen\, um zu bleiben. \nLasst Euch von den Aktivitäten anderer Unternehmen inspirieren\, gewinnt einen Überblick über die neuen Anforderungen sowie Unterstützungsangebote und knüpft wertvolle Kontakte! \nHier findet Ihr mehr Informationen zu der Veranstaltung.
URL:https://cms.munich-startup.net/veranstaltung/12-bayerischer-csr-tag/
LOCATION:IHK für München und Oberbayern\, Max-Joseph-Strasse 2\, München\, 80333\, Deutschland
ATTACH;FMTTYPE=image/jpeg:https://cms.munich-startup.net/wp-content/uploads/2024/07/doo_header_3-2.jpg
END:VEVENT
END:VCALENDAR