BEGIN:VCALENDAR
VERSION:2.0
PRODID:-//Munich Startup - ECPv5.5.0//NONSGML v1.0//EN
CALSCALE:GREGORIAN
METHOD:PUBLISH
X-WR-CALNAME:Munich Startup
X-ORIGINAL-URL:https://cms.munich-startup.net/en
X-WR-CALDESC:Events for Munich Startup
BEGIN:VTIMEZONE
TZID:Europe/Berlin
BEGIN:DAYLIGHT
TZOFFSETFROM:+0100
TZOFFSETTO:+0200
TZNAME:CEST
DTSTART:20250330T010000
END:DAYLIGHT
BEGIN:STANDARD
TZOFFSETFROM:+0200
TZOFFSETTO:+0100
TZNAME:CET
DTSTART:20251026T010000
END:STANDARD
END:VTIMEZONE
BEGIN:VEVENT
DTSTART;TZID=Europe/Berlin:20251107T090000
DTEND;TZID=Europe/Berlin:20251107T235900
DTSTAMP:20260425T040930
CREATED:20251014T112133Z
LAST-MODIFIED:20251014T112343Z
UID:113689-1762506000-1762559940@cms.munich-startup.net
SUMMARY:Young Founders Conference
DESCRIPTION:Die Young Founders Conference ist das größte Event für junge GründerInnen und alle\, die es werden wollen. Hier bekommst du echtes Startup‑Mindset\, schonungslos ehrliche Founder‑Stories und Zugang zu Europas spannendsten Talenten \nWas dich erwartet: \n\n1.000 Teilnehmende: Junge GründerInnen\, Studierende\, InvestorInnen und Corporates aus ganz Deutschland\n35+ Speaker\, die echte Firmen aufgebaut haben: Lukasz Gadowski (Delivery Hero\, Mr Spex)\, Timothée Lacroix (Mistral AI\, Europa’s ChatGPT)\, Gero Decker (Signavio)\, Nour Idelbi (Pop’it) und viele mehr\n50+ Business Angels & VCs: Lerne InvestorInnen kennen\, die auf der Suche nach den GründerInnen von morgen sind (auch wenn du gerade erst startest)\nEWOR Pitch-Finale: 5.000€ Preisgeld. Pitch vor Foundern\, die Unicorns aufgebaut haben\nAfterparty über den Dächern Münchens: weil die besten Gespräche eh nach dem Programm entstehen\n\nWas du auf jeden Fall mitnimmst:\nKonkrete Antworten auf deine Fragen. Investoren-Leads. Potenzielle Co-Founder. Ein Netzwerk\, das auch nach dem Event bleibt. Und inspiration ehrliche Geschichten über Scheitern\, Pivots und Durchhalten. \nWer wir sind:\nDas Young Founders Network (YFN) ist Deutschlands größte Community für junge Gründer:innen. Vor 4 Jahren als Support Gruppe unter Freunden gestartet\, heute über 1.200 Members\, die anpacken\, machen und bauen. \nHier findet Ihr mehr Informationen zu der Veranstaltung.
URL:https://cms.munich-startup.net/en/event/young-founders-conference/
LOCATION:smartvillage Bogenhausen\, Rosenkavalierplatz 13\, München\, 81925
ATTACH;FMTTYPE=image/png:https://cms.munich-startup.net/wp-content/uploads/2025/10/YFC-Event-Image-e1760440803307.png
END:VEVENT
END:VCALENDAR