BEGIN:VCALENDAR
VERSION:2.0
PRODID:-//Munich Startup - ECPv5.5.0//NONSGML v1.0//EN
CALSCALE:GREGORIAN
METHOD:PUBLISH
X-WR-CALNAME:Munich Startup
X-ORIGINAL-URL:https://cms.munich-startup.net/en
X-WR-CALDESC:Events for Munich Startup
BEGIN:VTIMEZONE
TZID:Europe/Berlin
BEGIN:DAYLIGHT
TZOFFSETFROM:+0100
TZOFFSETTO:+0200
TZNAME:CEST
DTSTART:20170326T010000
END:DAYLIGHT
BEGIN:STANDARD
TZOFFSETFROM:+0200
TZOFFSETTO:+0100
TZNAME:CET
DTSTART:20171029T010000
END:STANDARD
END:VTIMEZONE
BEGIN:VEVENT
DTSTART;TZID=Europe/Berlin:20170207T090000
DTEND;TZID=Europe/Berlin:20170208T180000
DTSTAMP:20260424T212515
CREATED:20170109T101926Z
LAST-MODIFIED:20170109T101926Z
UID:17917-1486458000-1486576800@cms.munich-startup.net
SUMMARY:WT | Wearable Technologies Conference 2017
DESCRIPTION:Am 7. und 8. Februar 2017 ist die WT | Wearable Technologies Conference EUROPE wieder zurück in München! \nSeit 2006 findet die branchenführende Konferenz für Innovatoren und Entscheidungsträger aus dem Bereich der Wearable Technologies parallel zur ISPO statt. Das zweitägige Event wird nicht nur die Zukunft der Wearables für die Bereiche Sport und Fitness beleuchten\, sondern auch bahnbrechende Technologien aus anderen Marktbereichen (wie bspw. Gesundheit) sowie modernste Technologien für zukünftige Anwendungsbereiche. Freut Euch auf inspirierende Vorträge von TUI\, Swatch\, Tacterion\, Allianz\, Infineon\, OSRAM und sprecht mit den Ausstellern aus der gesamten Wertschöpfungskette von WT. \nAm 7. Februar findet außerdem die Award Ceremony des WT | Innovation World Cups statt\, bei dem über 30 Startups Ihre innovativen Produkte und Prototypen vorstellen werden. \nHier findet Ihr mehr Informationen zu der Veranstaltung.
URL:https://cms.munich-startup.net/en/event/wt-wearable-technologies-conference-2017/
ATTACH;FMTTYPE=image/png:https://cms.munich-startup.net/wp-content/uploads/2017/01/WTEU17.png
END:VEVENT
END:VCALENDAR