BEGIN:VCALENDAR
VERSION:2.0
PRODID:-//Munich Startup - ECPv5.5.0//NONSGML v1.0//EN
CALSCALE:GREGORIAN
METHOD:PUBLISH
X-WR-CALNAME:Munich Startup
X-ORIGINAL-URL:https://cms.munich-startup.net/en
X-WR-CALDESC:Events for Munich Startup
BEGIN:VTIMEZONE
TZID:Europe/Berlin
BEGIN:DAYLIGHT
TZOFFSETFROM:+0100
TZOFFSETTO:+0200
TZNAME:CEST
DTSTART:20240331T010000
END:DAYLIGHT
BEGIN:STANDARD
TZOFFSETFROM:+0200
TZOFFSETTO:+0100
TZNAME:CET
DTSTART:20241027T010000
END:STANDARD
END:VTIMEZONE
BEGIN:VEVENT
DTSTART;TZID=Europe/Berlin:20240731T153000
DTEND;TZID=Europe/Berlin:20240731T163000
DTSTAMP:20260426T030223
CREATED:20240702T122437Z
LAST-MODIFIED:20240702T122437Z
UID:102777-1722439800-1722443400@cms.munich-startup.net
SUMMARY:Workshop: Wie tickt ein VC und wie manage ich professionell die Kapitalsuche bis zum Invest?
DESCRIPTION:Alle Fragen\, die Du einem VC schon immer mal stellen wolltest\, kannst Du in diesem Workshop den anwesenden Investment Managern des bayerischen VCs Bayern Kapital stellen. Statt einem langen Frontal-Vortrag beantworten wir offen Eure Fragen. \nWie zum Beispiel: \n\nWelche Renditeerwartungen hat ein VC üblicherweise und wie kann ich prüfen\, ob ich sie ernsthaft erfüllen kann?\nWie einigt man sich auf eine für beide Seiten faire Bewertung?\nBin ich mit einem Term Sheet schon auf der „sicheren Seite“?\nWas muss ich bei einer Due Diligence berücksichtigen\, was wird geprüft und wer trägt die Kosten?\nBiete ich ein Convertible Loan an oder lieber gleich eine offene Minderheitsbeteiligung?\nIst das Angebot eines „Second Closing“ sinnvoll?\n\n  \nDoch bevor Du Gespräche mit Investoren führst\, solltest Du Dir über den Prozess Gedanken machen. So solltest Du beispielsweise nach ersten Investorengesprächen „dran bleiben“ und den Prozess bis zum Abschluss durch ein mögliches Invest proaktiv gestalten. Ein professionelles Vorgehen umfasst dabei einige grundlegende Themen\, wie den Zugang zu einem gemeinsamen Datenraum sowie eine präzise Timeline bis zum Abschluss. Stehst Du mit mehreren Investoren in Verhandlungen\, wird der Prozess noch komplexer. \n\nWie strukturiere ich den Prozess der Investorenansprache professionell und effizient?\nWie geht es nach dem Pitch weiter?\nWie strukturiere ich den Verhandlungsprozess?\nWas wird vom Gründer erwartet?\nWas kann ich vom Investor erwarten? Kann ich Forderungen stellen?\nWie lange dauert der gesamte Prozess?\nWie halte ich alle Beteiligten und Interessenten über die aktuelle Entwicklung des Startups informiert?\nWie verhindere ich endloses „Window Shopping“?\nWann macht es Sinn\, Rechtsanwälte einzuschalten?\nWie koordiniere ich das Interesse mehrerer Investoren und wie gehe ich mit Investoren um\, die im Laufe des Prozesses Interesse bekunden?\nWie gehe ich mit Ablehnungen um?\nWelche Reaktionsgeschwindigkeit wird vom Startup erwartet?\nWelche Daten und Informationen stelle ich wem und wann zur Verfügung?\nWelche „typischen“ Fehler sollte ich vermeiden?\n\nWolfgang Härtl von Bayern Kapital und Dr. Carolin Plagmann von BayStartUP teilen ihre Erfahrungen und geben wichtige Tipps für professionelles\, zielführendes Handeln in dieser wichtigen Phase Deines Startups. \nHier findet Ihr weitere Informationen zu der Veranstaltung.
URL:https://cms.munich-startup.net/en/event/workshop-on-how-a-vc-works-and-how-to-professionally-manage-the-search-for-capital-until-the-investment-0724/
LOCATION:MTZ\, Agnes-Pockels-Bogen 1\, München\, 80992
ATTACH;FMTTYPE=image/png:https://cms.munich-startup.net/wp-content/uploads/2024/07/BayStartUP_Logotype_pos_RGB-2.png
GEO:48.1738116;11.5322241
X-APPLE-STRUCTURED-LOCATION;VALUE=URI;X-ADDRESS=MTZ Agnes-Pockels-Bogen 1 München 80992;X-APPLE-RADIUS=500;X-TITLE=Agnes-Pockels-Bogen 1:geo:11.5322241,48.1738116
END:VEVENT
END:VCALENDAR