BEGIN:VCALENDAR
VERSION:2.0
PRODID:-//Munich Startup - ECPv5.5.0//NONSGML v1.0//EN
CALSCALE:GREGORIAN
METHOD:PUBLISH
X-WR-CALNAME:Munich Startup
X-ORIGINAL-URL:https://cms.munich-startup.net/en
X-WR-CALDESC:Events for Munich Startup
BEGIN:VTIMEZONE
TZID:Europe/Berlin
BEGIN:DAYLIGHT
TZOFFSETFROM:+0100
TZOFFSETTO:+0200
TZNAME:CEST
DTSTART:20250330T010000
END:DAYLIGHT
BEGIN:STANDARD
TZOFFSETFROM:+0200
TZOFFSETTO:+0100
TZNAME:CET
DTSTART:20251026T010000
END:STANDARD
END:VTIMEZONE
BEGIN:VEVENT
DTSTART;TZID=Europe/Berlin:20251023T173000
DTEND;TZID=Europe/Berlin:20251023T210000
DTSTAMP:20260425T054355
CREATED:20250613T074005Z
LAST-MODIFIED:20250613T074005Z
UID:110348-1761240600-1761253200@cms.munich-startup.net
SUMMARY:Women Start-up Award - Pitch Night & Award Ceremony 2025
DESCRIPTION:Witness the Future of Female-Led Tech Start-ups at the Women Start-up Award 2025 Pitch Night! \nFollowing an intensive phase of training and coaching\, the finalists are set to unveil their groundbreaking ideas to a large audience and a distinguished jury. Join us for the highly anticipated Pitch Night\, where the leading female founders will showcase their innovative tech concepts to a top-tier jury of experts from business and technology. \nDive into the world of cutting-edge start-ups\, be inspired by the powerful visions of these female entrepreneurs\, and find out who will be crowned the winner of the Women Start-up Award. \nWhat awaits you at the Pitch Night: \n\nInspiring Finalist Pitches: Experience compelling presentations of the next generation of technologies and business models.\nEngaging Networking: Build valuable relationships with female founders\, investors\, mentors\, and our prestigious Women Start-up Angels.\nAnd the Winners Are…: Be there as we announce the outstanding founders who will take home the Women Start-up Award 2025!\n\nDon’t miss out on this incredible event! Grab your free ticket today! \nHier findet Ihr mehr Informationen zu der Veranstaltung.
URL:https://cms.munich-startup.net/en/event/women-start-up-award-pitch-night-award-ceremony-2025/
LOCATION:Munich Urban Colab\, Freddie-Mercury-Straße 5\, München\, 80797
ATTACH;FMTTYPE=image/avif:https://cms.munich-startup.net/wp-content/uploads/2025/06/Women-Start-up-Award-Pitch-Night-Award-Ceremony-2025.avif
END:VEVENT
END:VCALENDAR