BEGIN:VCALENDAR
VERSION:2.0
PRODID:-//Munich Startup - ECPv5.5.0//NONSGML v1.0//EN
CALSCALE:GREGORIAN
METHOD:PUBLISH
X-WR-CALNAME:Munich Startup
X-ORIGINAL-URL:https://cms.munich-startup.net/en
X-WR-CALDESC:Events for Munich Startup
BEGIN:VTIMEZONE
TZID:Europe/Berlin
BEGIN:DAYLIGHT
TZOFFSETFROM:+0100
TZOFFSETTO:+0200
TZNAME:CEST
DTSTART:20250330T010000
END:DAYLIGHT
BEGIN:STANDARD
TZOFFSETFROM:+0200
TZOFFSETTO:+0100
TZNAME:CET
DTSTART:20251026T010000
END:STANDARD
END:VTIMEZONE
BEGIN:VEVENT
DTSTART;TZID=Europe/Berlin:20250508T160000
DTEND;TZID=Europe/Berlin:20250508T180000
DTSTAMP:20260425T134834
CREATED:20250129T142408Z
LAST-MODIFIED:20250402T094753Z
UID:107575-1746720000-1746727200@cms.munich-startup.net
SUMMARY:WERKSACADEMY – Workshops & Training: Sales
DESCRIPTION:Die erste WERKSACADEMY im WERK1 dieses Jahr dreht sich um das stets brandaktuelle Thema Sales. \nWorkshop-Inhalte: \n\nSales-Techniken: Erfahre\, wie du effektive Verkaufsgespräche führen und potenzielle Kund*innen überzeugen kannst.\nZielgruppenanalyse: Lerne\, deine Zielgruppe zu identifizieren und maßgeschneiderte Angebote zu entwickeln.\nPitch-Training: Übe\, deinen Pitch zu perfektionieren\, um Investoren und Kund*innen gleichermaßen zu begeistern.\nVerhandlungsstrategien: Entdecke\, wie du erfolgreich verhandeln und Win-Win-Situationen schaffen kannst.\nKundenbeziehungen: Erfahre\, wie du langfristige Beziehungen zu deinen Kunden aufbauen und pflegen kannst\n\nZielgruppe: \nDieser Workshop richtet sich an Gründer*innen\, Unternehmer*innen und Teams\, die ihre Sales-Techniken verbessern und ihr Startup auf das nächste Level bringen möchten. \nHier findet Ihr mehr Informationen zu der Veranstaltung.
URL:https://cms.munich-startup.net/en/event/werksacademy-workshops-training-sales/
LOCATION:WERK1\, Am Kartoffelgarten 14\, München\, 81671\, Germany
ATTACH;FMTTYPE=image/jpeg:https://cms.munich-startup.net/wp-content/uploads/2025/01/WA.jpg
END:VEVENT
END:VCALENDAR