BEGIN:VCALENDAR
VERSION:2.0
PRODID:-//Munich Startup - ECPv5.5.0//NONSGML v1.0//EN
CALSCALE:GREGORIAN
METHOD:PUBLISH
X-WR-CALNAME:Munich Startup
X-ORIGINAL-URL:https://cms.munich-startup.net/en
X-WR-CALDESC:Events for Munich Startup
BEGIN:VTIMEZONE
TZID:Europe/Berlin
BEGIN:DAYLIGHT
TZOFFSETFROM:+0100
TZOFFSETTO:+0200
TZNAME:CEST
DTSTART:20250330T010000
END:DAYLIGHT
BEGIN:STANDARD
TZOFFSETFROM:+0200
TZOFFSETTO:+0100
TZNAME:CET
DTSTART:20251026T010000
END:STANDARD
END:VTIMEZONE
BEGIN:VEVENT
DTSTART;TZID=Europe/Berlin:20251016T103000
DTEND;TZID=Europe/Berlin:20251016T120000
DTSTAMP:20260425T054241
CREATED:20250327T111241Z
LAST-MODIFIED:20250327T111241Z
UID:108832-1760610600-1760616000@cms.munich-startup.net
SUMMARY:Online: VCs verstehen - Wie tickt ein VC und wie wähle ich den richtigen aus
DESCRIPTION:gate-Academy: Workshop in Zusammenarbeit mit KPMG (online) \nIm Themenvortrag mit anschließendem Q&A erläutert Michael Königer von KPMG: \n\nInteressen und Sichtweisen von VCs\nwie zielführende Kommunikation aussieht\nund wie du Fehlentscheidungen vorbeugen kannst\n\nHier findet Ihr mehr Informationen zu der Veranstaltung.
URL:https://cms.munich-startup.net/en/event/understanding-online-vcs-how-does-a-vc-work-and-how-do-i-choose-the-right-one-4/
LOCATION:Online
ATTACH;FMTTYPE=image/jpeg:https://cms.munich-startup.net/wp-content/uploads/2025/03/VCs-verstehen-16.10-2.jpg
END:VEVENT
END:VCALENDAR