BEGIN:VCALENDAR
VERSION:2.0
PRODID:-//Munich Startup - ECPv5.5.0//NONSGML v1.0//EN
CALSCALE:GREGORIAN
METHOD:PUBLISH
X-WR-CALNAME:Munich Startup
X-ORIGINAL-URL:https://cms.munich-startup.net/en
X-WR-CALDESC:Events for Munich Startup
BEGIN:VTIMEZONE
TZID:Europe/Berlin
BEGIN:DAYLIGHT
TZOFFSETFROM:+0100
TZOFFSETTO:+0200
TZNAME:CEST
DTSTART:20250330T010000
END:DAYLIGHT
BEGIN:STANDARD
TZOFFSETFROM:+0200
TZOFFSETTO:+0100
TZNAME:CET
DTSTART:20251026T010000
END:STANDARD
END:VTIMEZONE
BEGIN:VEVENT
DTSTART;TZID=Europe/Berlin:20250206T170000
DTEND;TZID=Europe/Berlin:20250206T200000
DTSTAMP:20260425T181808
CREATED:20241127T105101Z
LAST-MODIFIED:20241209T134337Z
UID:106497-1738861200-1738872000@cms.munich-startup.net
SUMMARY:Online: Fachworkshop: Marken\, Firmennamen und Domains
DESCRIPTION:Marken\, Firmennamen und Domains stellen unverzichtbare Kommunikations- und Wiedererkennungsmittel im geschäftlichen Verkehr dar\, auf die kein Unternehmen verzichten kann. \nRechtsanwalt Dr. Udo Herberth aus der Kanzlei Weickmann & Weickmann bietet Dir einen ersten Einblick in die relevanten Fragen\, die sich insbesondere für Startups wie folgt darstellen: \n\nWas ist als Marke schützbar?\nWelche Kennzeichnung(en) sollte ein Startup sinnvollerweise als Marke(n) schützen lassen?\nWie bereite ich eine Markenanmeldung vor?\nWann kann ich eine als Marke angemeldete Bezeichnung benutzen?\nBrauche ich unbedingt Domains? Wenn ja\, welche?\nWas mache ich\, wenn meine Wunschdomain bereits vergeben ist?\nWie sieht eine sinnvolle mittelfristige Marken- und Domainstrategie für ein Startup aus?\nSollte ich sinnvollerweise professionelle Hilfe bei der Entwicklung von (Marken-) Namen\, Logos\, etc. in Anspruch nehmen?\nZu erwartende Kosten und Fördermöglichkeiten?\n\nHier findet Ihr mehr Informationen zu der Veranstaltung.
URL:https://cms.munich-startup.net/en/event/trademarks-company-names-and-domains-0225/
LOCATION:Online
ATTACH;FMTTYPE=image/png:https://cms.munich-startup.net/wp-content/uploads/2015/02/BayStartUP_Logotype_pos_RGB.png
END:VEVENT
END:VCALENDAR