BEGIN:VCALENDAR
VERSION:2.0
PRODID:-//Munich Startup - ECPv5.5.0//NONSGML v1.0//EN
CALSCALE:GREGORIAN
METHOD:PUBLISH
X-WR-CALNAME:Munich Startup
X-ORIGINAL-URL:https://cms.munich-startup.net/en
X-WR-CALDESC:Events for Munich Startup
BEGIN:VTIMEZONE
TZID:Europe/Berlin
BEGIN:DAYLIGHT
TZOFFSETFROM:+0100
TZOFFSETTO:+0200
TZNAME:CEST
DTSTART:20170326T010000
END:DAYLIGHT
BEGIN:STANDARD
TZOFFSETFROM:+0200
TZOFFSETTO:+0100
TZNAME:CET
DTSTART:20171029T010000
END:STANDARD
END:VTIMEZONE
BEGIN:VEVENT
DTSTART;TZID=Europe/Berlin:20170504T170000
DTEND;TZID=Europe/Berlin:20170504T235900
DTSTAMP:20260424T222409
CREATED:20170329T063653Z
LAST-MODIFIED:20210412T211800Z
UID:21637-1493917200-1493942340@cms.munich-startup.net
SUMMARY:The Royal Jungle Startup Rave
DESCRIPTION:The Royal Jungle is an international rave for startup rebels. Apply for your free ticket and join 1.000 selected startup rookies! \nHier findet Ihr mehr Informationen zu der Veranstaltung.
URL:https://cms.munich-startup.net/en/event/the-royal-jungle-startup-rave/
ATTACH;FMTTYPE=image/png:https://cms.munich-startup.net/wp-content/uploads/2017/03/The-Royal-Jungle-II-1.png
END:VEVENT
END:VCALENDAR