BEGIN:VCALENDAR
VERSION:2.0
PRODID:-//Munich Startup - ECPv5.5.0//NONSGML v1.0//EN
CALSCALE:GREGORIAN
METHOD:PUBLISH
X-WR-CALNAME:Munich Startup
X-ORIGINAL-URL:https://cms.munich-startup.net/en
X-WR-CALDESC:Events for Munich Startup
BEGIN:VTIMEZONE
TZID:Europe/Berlin
BEGIN:DAYLIGHT
TZOFFSETFROM:+0100
TZOFFSETTO:+0200
TZNAME:CEST
DTSTART:20240331T010000
END:DAYLIGHT
BEGIN:STANDARD
TZOFFSETFROM:+0200
TZOFFSETTO:+0100
TZNAME:CET
DTSTART:20241027T010000
END:STANDARD
END:VTIMEZONE
BEGIN:VEVENT
DTSTART;TZID=Europe/Berlin:20240913T150000
DTEND;TZID=Europe/Berlin:20240913T180000
DTSTAMP:20260426T012841
CREATED:20240909T130152Z
LAST-MODIFIED:20240909T130729Z
UID:104586-1726239600-1726250400@cms.munich-startup.net
SUMMARY:The Founder's Story @ IHK
DESCRIPTION:The Founder’s Story is a series of events and a Podcast led by Google\, bringing together inspirational leaders from startups and scaleups to share their firsthand experiences. If you’re a founder or a CxO eager to learn from the journeys of others\, you’re in the right place. \nOur events are centered around real-life tales of achievement\, challenges\, and persistence. We bring together leaders and experts from the startup ecosystem who share their unique experiences and lessons learned with us. \nThe Founder’s Story @ IHK\nIs Munich and the Isarvalley the perfect place to start a Startup? Hear successful founders discuss this topic and their personal founders‘ stories. \nAgenda\n15:00 pm Doors open \n15:30 pm: Keynote\nThomas Zeller\, MD of UnternehmerTUM \n15:50 pm: Panel discussion & Book Reading \n\nOroratech – Julia Gottfriedsen\nusercentrics – Mischa Rürup\ncommercetools – Dirk Hörig\nWinkt – Jasmin Oestreich\n\n16:40 pm: Q&A \n17:00 pm: Networking with drinks & food \nHier findet Ihr mehr Informationen zu der Veranstaltung.
URL:https://cms.munich-startup.net/en/event/the-founders-story-ihk/
LOCATION:IHK für München und Oberbayern\, Max-Joseph-Strasse 2\, München\, 80333\, Deutschland
ATTACH;FMTTYPE=image/png:https://cms.munich-startup.net/wp-content/uploads/2023/08/Logo-IHK-fuer-Muenchen-und-Oberbayern.png
END:VEVENT
END:VCALENDAR