BEGIN:VCALENDAR
VERSION:2.0
PRODID:-//Munich Startup - ECPv5.5.0//NONSGML v1.0//EN
CALSCALE:GREGORIAN
METHOD:PUBLISH
X-WR-CALNAME:Munich Startup
X-ORIGINAL-URL:https://cms.munich-startup.net/en
X-WR-CALDESC:Events for Munich Startup
BEGIN:VTIMEZONE
TZID:Europe/Berlin
BEGIN:DAYLIGHT
TZOFFSETFROM:+0100
TZOFFSETTO:+0200
TZNAME:CEST
DTSTART:20250330T010000
END:DAYLIGHT
BEGIN:STANDARD
TZOFFSETFROM:+0200
TZOFFSETTO:+0100
TZNAME:CET
DTSTART:20251026T010000
END:STANDARD
END:VTIMEZONE
BEGIN:VEVENT
DTSTART;TZID=Europe/Berlin:20251009T090000
DTEND;TZID=Europe/Berlin:20251009T153000
DTSTAMP:20260425T052655
CREATED:20250917T131459Z
LAST-MODIFIED:20250917T131619Z
UID:112824-1760000400-1760023800@cms.munich-startup.net
SUMMARY:Tech Meetup Japan and Bavaria
DESCRIPTION:The Tech Meetup Japan & Bavaria is a unique opportunity to build bridges between leading Japanese corporations and innovative Bavarian tech startups. \nThe morning program will showcase the Munich startup ecosystem and venture capital landscape. After a networking lunch\, Bavarian startups will engage directly with Japanese corporates in exclusive one-to-one meeting sessions. \nThe event spotlights cutting-edge industries including Aerospace\, AI\, Biotech\, Greentech\, Mobility\, Robotics & Automation\, and Semiconductors. \nJoin us to explore new opportunities\, foster collaborations\, and shape the future of technology together. \nHier findet Ihr mehr Informationen zu der Veranstaltung.
URL:https://cms.munich-startup.net/en/event/tech-meetup-japan-and-bavaria/
LOCATION:IHK für München und Oberbayern\, Max-Joseph-Strasse 2\, München\, 80333\, Deutschland
ATTACH;FMTTYPE=image/jpeg:https://cms.munich-startup.net/wp-content/uploads/2025/09/GvGKTcLuqsfPpqE.jpg
END:VEVENT
END:VCALENDAR