BEGIN:VCALENDAR
VERSION:2.0
PRODID:-//Munich Startup - ECPv5.5.0//NONSGML v1.0//EN
CALSCALE:GREGORIAN
METHOD:PUBLISH
X-WR-CALNAME:Munich Startup
X-ORIGINAL-URL:https://cms.munich-startup.net/en
X-WR-CALDESC:Events for Munich Startup
BEGIN:VTIMEZONE
TZID:Europe/Berlin
BEGIN:DAYLIGHT
TZOFFSETFROM:+0100
TZOFFSETTO:+0200
TZNAME:CEST
DTSTART:20240331T010000
END:DAYLIGHT
BEGIN:STANDARD
TZOFFSETFROM:+0200
TZOFFSETTO:+0100
TZNAME:CET
DTSTART:20241027T010000
END:STANDARD
END:VTIMEZONE
BEGIN:VEVENT
DTSTART;TZID=Europe/Berlin:20240731T170000
DTEND;TZID=Europe/Berlin:20240731T220000
DTSTAMP:20260426T030224
CREATED:20240702T120733Z
LAST-MODIFIED:20240702T120733Z
UID:102762-1722445200-1722463200@cms.munich-startup.net
SUMMARY:Sommerfest von MTZ und BayStartUP
DESCRIPTION:Gemeinsam mit dem MTZ lädt BayStartUP Euch zum legendären Sommerfest mit Burgern\, Bier und Pitches ein. Außerdem erwarten Euch ein Begrüßungs-Cocktail und ein Live-DJ. \nIn entspannter Atmosphäre treffen Entrepreneure auf Gründungsfreunde\, Unternehmer*innen aus der Wirtschaft\, Investoren und Startup-Experten. Sei dabei und nutze die Gelegenheit neue Kontakte zu knüpfen! \nHier findet Ihr mehr Informationen zu der Veranstaltung.
URL:https://cms.munich-startup.net/en/event/summer-party-of-mtz-and-baystartup-2024/
LOCATION:MTZ\, Agnes-Pockels-Bogen 1\, München\, 80992
ATTACH;FMTTYPE=image/png:https://cms.munich-startup.net/wp-content/uploads/2024/07/Sommerfest-von-MTZ-und-BayStartUP.png
GEO:48.1738116;11.5322241
X-APPLE-STRUCTURED-LOCATION;VALUE=URI;X-ADDRESS=MTZ Agnes-Pockels-Bogen 1 München 80992;X-APPLE-RADIUS=500;X-TITLE=Agnes-Pockels-Bogen 1:geo:11.5322241,48.1738116
END:VEVENT
END:VCALENDAR