BEGIN:VCALENDAR
VERSION:2.0
PRODID:-//Munich Startup - ECPv5.5.0//NONSGML v1.0//EN
CALSCALE:GREGORIAN
METHOD:PUBLISH
X-WR-CALNAME:Munich Startup
X-ORIGINAL-URL:https://cms.munich-startup.net/en
X-WR-CALDESC:Events for Munich Startup
BEGIN:VTIMEZONE
TZID:Europe/Berlin
BEGIN:DAYLIGHT
TZOFFSETFROM:+0100
TZOFFSETTO:+0200
TZNAME:CEST
DTSTART:20240331T010000
END:DAYLIGHT
BEGIN:STANDARD
TZOFFSETFROM:+0200
TZOFFSETTO:+0100
TZNAME:CET
DTSTART:20241027T010000
END:STANDARD
END:VTIMEZONE
BEGIN:VEVENT
DTSTART;TZID=Europe/Berlin:20240903T090000
DTEND;TZID=Europe/Berlin:20240903T210000
DTSTAMP:20260426T012844
CREATED:20240716T065323Z
LAST-MODIFIED:20240716T065406Z
UID:103154-1725354000-1725397200@cms.munich-startup.net
SUMMARY:Startups for Tomorrow Festival
DESCRIPTION:Sozialer Impact und Umsatz sind miteinander vereinbar! \nWie das gelingt\, verraten Dir unsere hochkarätigen Speaker beim diesjährigen Startups for Tomorrow Festival. Egal\, ob es um verschiedene Finanzierungsmodelle geht\, Impact Marketing\, New Work\, oder wie man es als Unternehmen wirklich schafft\, die Emissionen zu senken: \nDas SFT Festival beschäftigt sich mit aktuellen Themen rund um Corporate Social Responsibility\, Nachhaltigkeit\, Marketing & Aktivismus\, sowie HR/Leadership.‍ \nFür alle Startups\, Gründer*innen Corporates\, Investor*innen und Sozialunternehmen\, die umweltbewusst & umsatzorientiert handeln und sich mit Gleichgesinnten austauschen wollen. \nHier findet Ihr mehr Informationen zu der Veranstaltung.
URL:https://cms.munich-startup.net/en/event/startups-for-tomorrow-festival/
LOCATION:smartvillage Bogenhausen\, Rosenkavalierplatz 13\, München\, 81925
ATTACH;FMTTYPE=image/png:https://cms.munich-startup.net/wp-content/uploads/2024/07/SFT-Festival_Bild.png
END:VEVENT
END:VCALENDAR