BEGIN:VCALENDAR
VERSION:2.0
PRODID:-//Munich Startup - ECPv5.5.0//NONSGML v1.0//EN
CALSCALE:GREGORIAN
METHOD:PUBLISH
X-WR-CALNAME:Munich Startup
X-ORIGINAL-URL:https://cms.munich-startup.net/en
X-WR-CALDESC:Events for Munich Startup
BEGIN:VTIMEZONE
TZID:Europe/Berlin
BEGIN:DAYLIGHT
TZOFFSETFROM:+0100
TZOFFSETTO:+0200
TZNAME:CEST
DTSTART:20240331T010000
END:DAYLIGHT
BEGIN:STANDARD
TZOFFSETFROM:+0200
TZOFFSETTO:+0100
TZNAME:CET
DTSTART:20241027T010000
END:STANDARD
END:VTIMEZONE
BEGIN:VEVENT
DTSTART;TZID=Europe/Berlin:20240911T170000
DTEND;TZID=Europe/Berlin:20240911T200000
DTSTAMP:20260426T013058
CREATED:20240715T112141Z
LAST-MODIFIED:20240715T112423Z
UID:103135-1726074000-1726084800@cms.munich-startup.net
SUMMARY:Startups\, Unternehmen und KI: Rechtsguide\, um KI-Compliance zu meistern
DESCRIPTION:Unter dem Titel „Startups\, Unternehmen und KI: Rechtsguide\, um KI-Compliance zu meistern“ findet am 11.09.2024 ein Experten-Panel statt\, das Licht ins Dunkel der rechtlichen Aspekte künstlicher Intelligenz bringt. \nMit dem rasanten Fortschritt der KI-Technologie stehen sowohl Startups\, als auch etablierte Unternehmen vor neuen Herausforderungen. Rechtsfragen\, wie das geistige Eigentum\, sowie deren Regulierung werden immer relevanter. Doch wie navigiert man durch dieses komplexe rechtliche Terrain? \nDieses Panel bietet Euch die ideale Gelegenheit von führenden Experten zu lernen: \n\nAndrea Schlote – Counsel @ Bird & Bird (Moderation)\nDr. Simon Hembt – Associate @ Bird & Bird\nDr. Sabine Wiesmüller – Director AI (Europe) @Start2 Group\nDaniel Weimer – CTO CertAI\nLast Speaker – TBA\n\nWir decken alles ab\, von aktuellen Vorschriften\, rund um die GDPR\, bis hin zu Prognosen über den neu verabscheideten EU AI Act! Außerdem werden wir fortgeschrittene Strategien vorstellen\, die Eurem Unternhemen helfen\, in diesem neuen Zeitalter zu florieren! \nSeid dabei\, um: \n\nWichtige rechtliche Insights und Best Practices zu erhalten.\nEure spezifischen Fragen von unseren Experten beantworten zu lassen.\nMit Gleichgesinnten zu netzwerken und Erfahrungen auszutauschen.\n\nHier findet Ihr mehr Informationen zu der Veranstaltung.
URL:https://cms.munich-startup.net/en/event/startups-companies-and-ai-legal-guide-to-master-ai-compliance/
LOCATION:Start2 Group\, Balanstraße 73\, München\, 81541\, Deutschland
ATTACH;FMTTYPE=image/png:https://cms.munich-startup.net/wp-content/uploads/2024/07/Start2-AI-Event.png
END:VEVENT
END:VCALENDAR