BEGIN:VCALENDAR
VERSION:2.0
PRODID:-//Munich Startup - ECPv5.5.0//NONSGML v1.0//EN
CALSCALE:GREGORIAN
METHOD:PUBLISH
X-WR-CALNAME:Munich Startup
X-ORIGINAL-URL:https://cms.munich-startup.net/en
X-WR-CALDESC:Events for Munich Startup
BEGIN:VTIMEZONE
TZID:Europe/Berlin
BEGIN:DAYLIGHT
TZOFFSETFROM:+0100
TZOFFSETTO:+0200
TZNAME:CEST
DTSTART:20250330T010000
END:DAYLIGHT
BEGIN:STANDARD
TZOFFSETFROM:+0200
TZOFFSETTO:+0100
TZNAME:CET
DTSTART:20251026T010000
END:STANDARD
END:VTIMEZONE
BEGIN:VEVENT
DTSTART;TZID=Europe/Berlin:20251024T100000
DTEND;TZID=Europe/Berlin:20251024T160000
DTSTAMP:20260425T052555
CREATED:20250127T083242Z
LAST-MODIFIED:20250127T083242Z
UID:107383-1761300000-1761321600@cms.munich-startup.net
SUMMARY:Startup WORK Job Messe
DESCRIPTION:Nach einer sehr erfolgreichen Startup WORK Ausgabe im Oktober 2024 mit mehr als 350 Jobsuchenden und +15 Startups\, geben wir den Startschuss für die Startup WORK 2025! \nAlso seid am 24. Oktober 2025 entweder mit Eurem Startup oder als Jobsuchende/r dabei! \nSTARTUP WORK FÜR STARTUPS \n\nZugang zu 300+ Talenten\nVorab-Zugang zu Lebensläufen & Matching mit passenden Jobsuchenden\nBewerber direkt kennenlernen und vor Ort interviewen\nNetworking mit anderen Startups aus dem Ökosystem\nWorkshops\, Keynotes und Interviews\n\nSTARTUP WORK FÜR JOBSUCHENDE \n\nGanztägiger Zugang zur Messe mit 15+ Startups\nKostenlose Bewerbungsfotos mit Premiumticket\nLade Deinen Lebenslauf zum Pre-Matching mit den Startup-Ausstellern hoch\nLerne die HR Personen in einer entspannten Atmosphäre direkt vor Ort kennen\nVorstellungsgespräche vor Ort\nWorkshops & Keynotes\n\nHier findet Ihr mehr Informationen zu der Veranstaltung.
URL:https://cms.munich-startup.net/en/event/startup-work-job-fair-2025/
LOCATION:WERK1\, Am Kartoffelgarten 14\, München\, 81671\, Germany
ATTACH;FMTTYPE=image/jpeg:https://cms.munich-startup.net/wp-content/uploads/2025/01/Startup-Work-105-x-148-mm-Instagram-Post.jpg
END:VEVENT
END:VCALENDAR