BEGIN:VCALENDAR
VERSION:2.0
PRODID:-//Munich Startup - ECPv5.5.0//NONSGML v1.0//EN
CALSCALE:GREGORIAN
METHOD:PUBLISH
X-WR-CALNAME:Munich Startup
X-ORIGINAL-URL:https://cms.munich-startup.net/en
X-WR-CALDESC:Events for Munich Startup
BEGIN:VTIMEZONE
TZID:Europe/Berlin
BEGIN:DAYLIGHT
TZOFFSETFROM:+0100
TZOFFSETTO:+0200
TZNAME:CEST
DTSTART:20180325T010000
END:DAYLIGHT
BEGIN:STANDARD
TZOFFSETFROM:+0200
TZOFFSETTO:+0100
TZNAME:CET
DTSTART:20181028T010000
END:STANDARD
END:VTIMEZONE
BEGIN:VEVENT
DTSTART;TZID=Europe/Berlin:20180628T180000
DTEND;TZID=Europe/Berlin:20180628T210000
DTSTAMP:20260424T213634
CREATED:20180606T082520Z
LAST-MODIFIED:20210412T211925Z
UID:36825-1530208800-1530219600@cms.munich-startup.net
SUMMARY:Startup trifft Handwerk - Zukunftstechnologien\, Geschäftsmodelle und kreative Schmankerl
DESCRIPTION:In der Zeit des digitalen Wandels zeichnen sich immer mehr Startups als „die“ Innovationstreiber aus. Gemeinsam mit der Handwerkskammer für München und Oberbayern (HKW) wollen wir den Austausch zwischen Gründern und Handwerkern verbessern. Dazu haben wir wieder junge Unternehmen und innovative Handwerker eingeladen. Außerdem präsentieren ausgewählte Lebensmittelhandwerker ihre kreativen Schmankerl. \nFolgende Unternehmen sind vertreten und bieten:\n\n„…die moderne Finanz- und Debitoren-Plattform“\, Bilendo \, München\n„…die interaktive Enzyklopädie des Handwerks“\, craftguide \, Au in der Hallertau\n„…die Abkehr von der Zettelwirtschaft im Bauhandwerk“\, Digiholz \, Fischbachau\n„…den 3D Drucker für Hochtemperaturkunststoffe“\, GEWO 3D \, Wörth\n„…das intelligente Roboter-Gerüstbau-Transportsystem“\, KEWAZO \, München\n„…digitale 3D Technologien für die Orthopädietechnik“\, Mecuris \, München\n„…die Software für Baudokumentation und Mängelmanagement“\, PAVE \, München\n„…das Pfandbecher-System für Coffee-to-go“\, reCup \, München\n„…den digitalen Baumanager zur Umsetzung privater Bauvorhaben“\, Re/Work One \, Landshut“\n„…die Vermittlung von Service Aufträgen“\, ServiceFix \, München\n„…das flexible Regal für jede Dachschräge“\, Skew \, München\n„…die Digitalisierung und Automatisierung des Personalwesens“\, staffboard \, München\n„…die App zur einfachen und schnellen Baustellendokumentation“\, WerkerApp \, München\n\nDazu gibt es Schmankerl von diesen kreativen Lebensmittelhandwerkern zu probieren:\n\n„…traditionell hergestelltes Mehl und traditionelles Münchner Gebäck“\, Jakob Blum Hofbräuhaus Kunstmühle \, München\n„…tausende Möglichkeiten aus 4 Grundzutaten“\, Maxbrauerei Biermanufaktur \, Altenstadt\n„…Rohschinkenspezialitäten hergestellt nach alter Tradition“\, Schinken-Ambiente \, Bergheim\n„…die Vereinigung von traditionellem Handwerk und kreativer Braukunst“\, Tilmans Biere \, München\n„…wertvolles tierisches Eiweiß durch Snacks aus Insekten“\, Wicked Cricket \, München\n\nWir freuen uns auf Euer Kommen! \nHier könnt Ihr Euch für die Veranstaltung kostenfrei anmelden.
URL:https://cms.munich-startup.net/en/event/startup-meets-craft-future-technologies-business-models-and-creative-delicacies/
LOCATION:Handwerkskammer für München und Oberbayern\, Max-Joseph-Straße 4\, München\, 80333
ATTACH;FMTTYPE=image/jpeg:https://cms.munich-startup.net/wp-content/uploads/2017/06/barn-images-12223.jpg
GEO:48.143271;11.5704708
X-APPLE-STRUCTURED-LOCATION;VALUE=URI;X-ADDRESS=Handwerkskammer für München und Oberbayern Max-Joseph-Straße 4 München 80333;X-APPLE-RADIUS=500;X-TITLE=Max-Joseph-Straße 4:geo:11.5704708,48.143271
END:VEVENT
END:VCALENDAR